BEGIN:VCALENDAR
VERSION:2.0
PRODID:-//PRENSA GOBIERNO DE MENDOZA - ECPv6.15.18//NONSGML v1.0//EN
CALSCALE:GREGORIAN
METHOD:PUBLISH
X-WR-CALNAME:PRENSA GOBIERNO DE MENDOZA
X-ORIGINAL-URL:https://prensa.mendoza.gob.ar
X-WR-CALDESC:Eventos para PRENSA GOBIERNO DE MENDOZA
REFRESH-INTERVAL;VALUE=DURATION:PT1H
X-Robots-Tag:noindex
X-PUBLISHED-TTL:PT1H
BEGIN:VTIMEZONE
TZID:America/Argentina/Mendoza
BEGIN:STANDARD
TZOFFSETFROM:-0300
TZOFFSETTO:-0300
TZNAME:-03
DTSTART:20240101T000000
END:STANDARD
END:VTIMEZONE
BEGIN:VEVENT
DTSTART;TZID=America/Argentina/Mendoza:20251216T103000
DTEND;TZID=America/Argentina/Mendoza:20251216T170000
DTSTAMP:20260422T072625
CREATED:20251216T111308Z
LAST-MODIFIED:20251216T111308Z
UID:516881-1765881000-1765904400@prensa.mendoza.gob.ar
SUMMARY:GOBERNACIÓN
DESCRIPTION:El Gobernador Alfredo Cornejo y el titular del Instituto Provincial de la Vivienda\, Gustavo Cantero\, entregarán 18 propiedades del barrio Las Viñas I. Será en Zapiola s/n\, Mayor Drummond\, Luján de Cuyo. \nUbicación: https://maps.app.goo.gl/KxUwP8A8NZjbQZWc7
URL:https://prensa.mendoza.gob.ar/agenda/gobernacion-17/
END:VEVENT
BEGIN:VEVENT
DTSTART;TZID=America/Argentina/Mendoza:20251216T100000
DTEND;TZID=America/Argentina/Mendoza:20251216T100000
DTSTAMP:20260422T072625
CREATED:20251216T030951Z
LAST-MODIFIED:20251216T110452Z
UID:516865-1765879200-1765879200@prensa.mendoza.gob.ar
SUMMARY:MINISTERIO DE GOBIERNO\, INFRAESTRUCTURA Y DESARROLLO TERRITORIAL
DESCRIPTION:El jefe de Gabinete\, Santiago Suarez junto a la directora de Economía Social\, Lorena Meschini\, participarán en la presentación del nuevo Sistema RUESyS\, la intervención municipal y el Informe Anual 2025 a los referentes de los distintos departamentos de la provincia. Será en el Centro Patrimonial y Artístico Cristoforo Colombo\, Antonio Tomba 246\, Godoy Cruz.
URL:https://prensa.mendoza.gob.ar/agenda/ministerio-de-gobierno-infraestructura-y-desarrollo-territorial-9/
END:VEVENT
BEGIN:VEVENT
DTSTART;TZID=America/Argentina/Mendoza:20251216T100000
DTEND;TZID=America/Argentina/Mendoza:20251216T100000
DTSTAMP:20260422T072625
CREATED:20251216T030506Z
LAST-MODIFIED:20251216T000958Z
UID:516868-1765879200-1765879200@prensa.mendoza.gob.ar
SUMMARY:MINISTERIO DE SALUD Y DEPORTES
DESCRIPTION:La subsecretaria de Salud\, Carina Copparoni\, junto con al decano\, Roberto Miatello\, de la Facultad de Ciencias Médicas de la UNCuyo encabezarán el acto de Colación de los Agentes sanitarios de la provincia. Será en el Aula Magna del Auditorio Ángel Bustelo\, Virgen del Carmen de Cuyo 610\, de Ciudad.
URL:https://prensa.mendoza.gob.ar/agenda/ministerio-de-salud-y-deportes-5/
END:VEVENT
BEGIN:VEVENT
DTSTART;TZID=America/Argentina/Mendoza:20251216T093000
DTEND;TZID=America/Argentina/Mendoza:20251216T170000
DTSTAMP:20260422T072625
CREATED:20251216T111217Z
LAST-MODIFIED:20251216T111217Z
UID:516879-1765877400-1765904400@prensa.mendoza.gob.ar
SUMMARY:GOBERNACIÓN
DESCRIPTION:El Gobernador Alfredo Cornejo; el intendente Esteban Allasino y la ministra de Seguridad y Justicia Mercedes Rus\, inaugurarán el Centro de Monitoreo integrado de Luján. Será en la Comisaría 11 – Ruta Provincial 15\, km 17\,5 de Luján de Cuyo.
URL:https://prensa.mendoza.gob.ar/agenda/gobernacion-16/
END:VEVENT
BEGIN:VEVENT
DTSTART;TZID=America/Argentina/Mendoza:20251215T120000
DTEND;TZID=America/Argentina/Mendoza:20251215T170000
DTSTAMP:20260422T072625
CREATED:20251215T133519Z
LAST-MODIFIED:20251215T133519Z
UID:516659-1765800000-1765818000@prensa.mendoza.gob.ar
SUMMARY:GOBERNACIÓN
DESCRIPTION:El Gobernador Alfredo Cornejo\, junto a la presidenta del Emetur\, Gabriela Testa\, participará de la última reunión del año del Consejo Consultivo de la Actividad Privada\, donde se presentará\, entre otros temas\, el nuevo spot de la campaña «Mendoza\, manso destino»\, para la temporada Verano. Será en La Enoteca. Peltier 611\, Ciudad.
URL:https://prensa.mendoza.gob.ar/agenda/gobernacion-15/
END:VEVENT
BEGIN:VEVENT
DTSTART;TZID=America/Argentina/Mendoza:20251212T120000
DTEND;TZID=America/Argentina/Mendoza:20251212T170000
DTSTAMP:20260422T072625
CREATED:20251212T133859Z
LAST-MODIFIED:20251212T133859Z
UID:515849-1765540800-1765558800@prensa.mendoza.gob.ar
SUMMARY:MINISTERIO DE SALUD Y DEPORTES
DESCRIPTION:Entregarán distinciones nacionales a ocho hospitales de nuestra provincia\, como “Establecimientos de Salud Comprometidos con la Calidad”. Será en el Salón de Acuerdos Eva Perón\, del 5º piso (cuerpo central) de Casa de Gobierno.
URL:https://prensa.mendoza.gob.ar/agenda/ministerio-de-salud-y-deportes-4/
END:VEVENT
BEGIN:VEVENT
DTSTART;TZID=America/Argentina/Mendoza:20251211T183000
DTEND;TZID=America/Argentina/Mendoza:20251211T193000
DTSTAMP:20260422T072625
CREATED:20251211T030100Z
LAST-MODIFIED:20251210T184741Z
UID:515933-1765477800-1765481400@prensa.mendoza.gob.ar
SUMMARY:MINISTERIO DE PRODUCCIÓN / AGENDA SAN RAFAEL
DESCRIPTION:El coordinador de Mejora de la Empleabilidad\, Facundo Pajot\, participa del evento donde se reconocen a quienes asistieron al Centro de Formación Profesional Carlos Tassaroli. \nSerá en el Centro de Congresos Alfredo Bufano\, Luis Tirasso 1025 – San Rafael.
URL:https://prensa.mendoza.gob.ar/agenda/ministerio-de-produccion-agenda-san-rafael/
END:VEVENT
BEGIN:VEVENT
DTSTART;TZID=America/Argentina/Mendoza:20251211T180000
DTEND;TZID=America/Argentina/Mendoza:20251211T190000
DTSTAMP:20260422T072625
CREATED:20251211T030150Z
LAST-MODIFIED:20251210T185828Z
UID:515939-1765476000-1765479600@prensa.mendoza.gob.ar
SUMMARY:MINISTERIO DE PRODUCCIÓN / AGENDA LA PAZ - SANTA ROSA
DESCRIPTION:El equipo de Conectados por Mendoza Futura organiza el cierre áulico del programa. \nSerá en el Auditorio municipal\, San Martín S/N – Santa Rosa.
URL:https://prensa.mendoza.gob.ar/agenda/ministerio-de-produccion-agenda-la-paz-santa-rosa/
END:VEVENT
BEGIN:VEVENT
DTSTART;TZID=America/Argentina/Mendoza:20251211T123000
DTEND;TZID=America/Argentina/Mendoza:20251211T170000
DTSTAMP:20260422T072625
CREATED:20251211T144345Z
LAST-MODIFIED:20251211T144345Z
UID:516064-1765456200-1765472400@prensa.mendoza.gob.ar
SUMMARY:GOBERNACIÓN
DESCRIPTION:El Gobernador Alfredo Cornejo\, junto al intendente de Guaymallén\, Marcos Calvente\, participará de la firma de la transferencia del predio Procrear de la Nación y el Banco Hipotecario al municipio. Con este paso\, Guaymallén se convertirá en el primer municipio del país en obtener la tenencia de un predio perteneciente a este programa nacional de viviendas. 📍Será en Tirasso 2131 de Guaymallén. Ubicación https://maps.app.goo.gl/uv5e6U7qUkvAgZsz7?g_st=iw
URL:https://prensa.mendoza.gob.ar/agenda/gobernacion-14/
END:VEVENT
BEGIN:VEVENT
DTSTART;TZID=America/Argentina/Mendoza:20251211T113000
DTEND;TZID=America/Argentina/Mendoza:20251211T170000
DTSTAMP:20260422T072625
CREATED:20251211T121609Z
LAST-MODIFIED:20251211T121609Z
UID:516039-1765452600-1765472400@prensa.mendoza.gob.ar
SUMMARY:GOBERNACIÓN
DESCRIPTION:El Gobernador Alfredo Cornejo\, junto al ministro de Gobierno\, Infraestructura y Desarrollo Territorial\, Natalio Mema y la presidenta del Ente Mendoza Turismo\, Gabriela Testa\, presentará los proyectos beneficiarios del Programa Pioneros. Será en el Salón Patricias\, 4º piso de Casa de Gobierno.
URL:https://prensa.mendoza.gob.ar/agenda/gobernacion-13/
END:VEVENT
BEGIN:VEVENT
DTSTART;TZID=America/Argentina/Mendoza:20251211T093000
DTEND;TZID=America/Argentina/Mendoza:20251211T103000
DTSTAMP:20260422T072625
CREATED:20251211T030113Z
LAST-MODIFIED:20251210T185344Z
UID:515937-1765445400-1765449000@prensa.mendoza.gob.ar
SUMMARY:MINISTERIO DE PRODUCCIÓN
DESCRIPTION:La subsecretaria Emilce Vega Espinoza participa de la entrega de certificados a quienes finalizaron las capacitaciones en NIDO (Textil)\, Oficios y Marketing Digital. \nSerá en Distrito 33\, ex predio de la UCIM\, Parque General San Martín – Ciudad de Mendoza.
URL:https://prensa.mendoza.gob.ar/agenda/ministerio-de-produccion-6/
END:VEVENT
BEGIN:VEVENT
DTSTART;TZID=America/Argentina/Mendoza:20251211T090000
DTEND;TZID=America/Argentina/Mendoza:20251211T170000
DTSTAMP:20260422T072625
CREATED:20251211T111400Z
LAST-MODIFIED:20251211T111502Z
UID:516027-1765443600-1765472400@prensa.mendoza.gob.ar
SUMMARY:MINISTERIO DE SALUD Y DEPORTES
DESCRIPTION:Acto de Entrega de subsidios a Investigadores Mendocinos 2025\, organizado por la Dirección de Investigación\, Ciencia y Técnica. Será en el Sala Tito Francia del Espacio Cultural Julio Le Parc\, ubicado en Av. Mitre s/n\, de Guaymallén.
URL:https://prensa.mendoza.gob.ar/agenda/ministerio-de-salud-y-deportes-3/
END:VEVENT
BEGIN:VEVENT
DTSTART;TZID=America/Argentina/Mendoza:20251210T180000
DTEND;TZID=America/Argentina/Mendoza:20251210T190000
DTSTAMP:20260422T072625
CREATED:20251210T101859Z
LAST-MODIFIED:20251210T101859Z
UID:515792-1765389600-1765393200@prensa.mendoza.gob.ar
SUMMARY:MINISTERIO DE PRODUCCIÓN / AGENDA EN GRAL ALVEAR
DESCRIPTION:El delegado de Zona Sur\, Andrés Vavrik\, participa de la charla “Exporta Simple – Nuevo Régimen Actualizado” a cargo de la especialista Graciela Rovera.\nSerá en la Cámara de Comercio\, Industria\, Agricultura\, Ganadería\, Víal y Servicios\, Paso de los Andes 525\, Alvear.
URL:https://prensa.mendoza.gob.ar/agenda/ministerio-de-produccion-agenda-en-gral-alvear/
END:VEVENT
BEGIN:VEVENT
DTSTART;TZID=America/Argentina/Mendoza:20251210T123000
DTEND;TZID=America/Argentina/Mendoza:20251210T170000
DTSTAMP:20260422T072625
CREATED:20251210T115703Z
LAST-MODIFIED:20251210T133703Z
UID:515806-1765369800-1765386000@prensa.mendoza.gob.ar
SUMMARY:GOBERNACIÓN
DESCRIPTION:El Gobernador Alfredo Cornejo\, junto al intendente de Godoy Cruz\, Diego Costarelli\, visitarán el predio de la ex Bodega Campana\, donde se llevará a cabo un nuevo desarrollo habitacional en el marco de un proyecto de recuperación urbana. Será en Domingo Matheu y Julio Preciado\, Godoy Cruz.
URL:https://prensa.mendoza.gob.ar/agenda/gobernacion-12/
END:VEVENT
BEGIN:VEVENT
DTSTART;TZID=America/Argentina/Mendoza:20251210T100000
DTEND;TZID=America/Argentina/Mendoza:20251210T110000
DTSTAMP:20260422T072625
CREATED:20251210T101635Z
LAST-MODIFIED:20251210T101635Z
UID:515789-1765360800-1765364400@prensa.mendoza.gob.ar
SUMMARY:MINISTERIO DE PRODUCCIÓN / AGENDA EN SAN RAFAEL
DESCRIPTION:El delegado de Zona Sur\, Andrés Vavrik\, participa de la charla “Exporta Simple – Nuevo Régimen Actualizado” a cargo de la especialista Graciela Rovera.\nSerá en la Cámara de Comercio\, Industria y Agropecuaria\, Av. El Libertador 78\, San Rafael.
URL:https://prensa.mendoza.gob.ar/agenda/ministerio-de-produccion-agenda-en-san-rafael/
END:VEVENT
BEGIN:VEVENT
DTSTART;TZID=America/Argentina/Mendoza:20251209T133000
DTEND;TZID=America/Argentina/Mendoza:20251209T170000
DTSTAMP:20260422T072625
CREATED:20251209T154253Z
LAST-MODIFIED:20251209T154253Z
UID:515721-1765287000-1765299600@prensa.mendoza.gob.ar
SUMMARY:GOBERNACIÓN / AGENDA EN BUENOS AIRES
DESCRIPTION:El Gobernador Alfredo Cornejo participará de la última reunión oficial del Consejo de Mayo como representante de las provincias argentinas. Será recibido por el jefe de Gabinete\, Manuel Adorni y el ministro de Desregulación\, Federico Sturzenegger. Será en el Salón de los Escudos del Ministerio del Interior\, Casa Rosada.
URL:https://prensa.mendoza.gob.ar/agenda/gobernacion-agenda-en-buenos-aires-3/
END:VEVENT
BEGIN:VEVENT
DTSTART;TZID=America/Argentina/Mendoza:20251205T124000
DTEND;TZID=America/Argentina/Mendoza:20251205T124000
DTSTAMP:20260422T072625
CREATED:20251205T030157Z
LAST-MODIFIED:20251204T203759Z
UID:515109-1764938400-1764938400@prensa.mendoza.gob.ar
SUMMARY:EMETUR
DESCRIPTION:Funcionarios del Ente Mendoza Turismo y técnicos de la Dirección de Promoción participarán de las intervenciones (flash mob) que se realizarán en el hall del Aeropuerto de Mendoza\, en vistas de la importante llegada de turistas por el fin de semana XL. Será en el Aeropuerto El Plumerillo.
URL:https://prensa.mendoza.gob.ar/agenda/emetur-2/
END:VEVENT
BEGIN:VEVENT
DTSTART;TZID=America/Argentina/Mendoza:20251205T120000
DTEND;TZID=America/Argentina/Mendoza:20251205T170000
DTSTAMP:20260422T072625
CREATED:20251205T112539Z
LAST-MODIFIED:20251205T112539Z
UID:515197-1764936000-1764954000@prensa.mendoza.gob.ar
SUMMARY:GOBERNACIÓN
DESCRIPTION:El Gobernador Alfredo Cornejo\, junto al ministro de Gobierno\, Infraestructura y Desarrollo Territorial\, Natalio Mema\, y la subsecretaría de Infraestructura\, Marité Badui\, realizarán la apertura de sobres de la licitación para la construcción del Tren de Cercanías del Este. Será en el salón Patricias Mendocinas\, cuarto piso de Casa de Gobierno.
URL:https://prensa.mendoza.gob.ar/agenda/gobernacion-11/
END:VEVENT
BEGIN:VEVENT
DTSTART;TZID=America/Argentina/Mendoza:20251205T110000
DTEND;TZID=America/Argentina/Mendoza:20251205T170000
DTSTAMP:20260422T072625
CREATED:20251205T030149Z
LAST-MODIFIED:20251204T182752Z
UID:515072-1764932400-1764954000@prensa.mendoza.gob.ar
SUMMARY:MINISTERIO DE PRODUCCIÓN
DESCRIPTION:Entrega de certificados del programa “Mujeres Conductoras”\nEl ministro de Producción Rodolfo Vargas Arizu junto a la subsecretaria Emilce Vega Espinoza\, participa del acto de entrega de certificados a las participantes del programa. \nEspacio Cultural Julio Le Parc – Mitre y Godoy Cruz\, Guaymallén
URL:https://prensa.mendoza.gob.ar/agenda/ministerio-de-produccion-4/
END:VEVENT
BEGIN:VEVENT
DTSTART;TZID=America/Argentina/Mendoza:20251205T104500
DTEND;TZID=America/Argentina/Mendoza:20251205T170000
DTSTAMP:20260422T072625
CREATED:20251205T123816Z
LAST-MODIFIED:20251205T123816Z
UID:515220-1764931500-1764954000@prensa.mendoza.gob.ar
SUMMARY:GOBERNACIÓN
DESCRIPTION:El Gobernador Alfredo Cornejo participará del acto inaugural del nuevo centro de control\, automatización y analítica de redes de la Cooperativa Eléctrica Popular y Anexos Rivadavia Ltda. Será en Sarmiento 528\, Rivadavia.
URL:https://prensa.mendoza.gob.ar/agenda/gobernacion-10/
END:VEVENT
BEGIN:VEVENT
DTSTART;TZID=America/Argentina/Mendoza:20251205T093000
DTEND;TZID=America/Argentina/Mendoza:20251205T170000
DTSTAMP:20260422T072625
CREATED:20251205T114542Z
LAST-MODIFIED:20251205T114542Z
UID:515211-1764927000-1764954000@prensa.mendoza.gob.ar
SUMMARY:AGENDA LONDRES-MINISTERIO DE ENERGÍA Y AMBIENTE
DESCRIPTION:(12:30h\, Londres). La ministra de Energía y Ambiente\, Jimena Latorre\, acompañada por el director de Minería\, Jerónimo Shantal\, y el gerente financiero de Impulsa Mendoza\, Sebastián Piña\, disertará sobre minería\, transición energética y potencialidades de Mendoza en la Residencia Argentina en Londres\, en el marco de la Feria Minera «Resourcing Tomorrow».
URL:https://prensa.mendoza.gob.ar/agenda/agenda-londres-ministerio-de-energia-y-ambiente/
END:VEVENT
BEGIN:VEVENT
DTSTART;TZID=America/Argentina/Mendoza:20251205T083000
DTEND;TZID=America/Argentina/Mendoza:20251205T093000
DTSTAMP:20260422T072625
CREATED:20251205T030127Z
LAST-MODIFIED:20251204T232938Z
UID:515140-1764923400-1764927000@prensa.mendoza.gob.ar
SUMMARY:MINISTERIO DE SEGURIDAD Y JUSTICIA
DESCRIPTION:El jefe de la División Investigativa Integrada y Leyes Especiales (DIILE)\, Osvaldo Araujo\, dará detalles del operativo que permitió la detención en San Juan del responsable de múltiples estafas a egresados en el marco del Plan Integral de Seguridad Regional de las provincias de Cuyo. \nSerá en la Dirección General de Investigaciones\, Belgrano 179 de Ciudad
URL:https://prensa.mendoza.gob.ar/agenda/ministerio-de-seguridad-y-justicia-4/
END:VEVENT
BEGIN:VEVENT
DTSTART;TZID=America/Argentina/Mendoza:20251204T110000
DTEND;TZID=America/Argentina/Mendoza:20251204T170000
DTSTAMP:20260422T072625
CREATED:20251204T110528Z
LAST-MODIFIED:20251204T110542Z
UID:514966-1764846000-1764867600@prensa.mendoza.gob.ar
SUMMARY:SUBSECRETARÍA DE CULTURA
DESCRIPTION:El ministro de Educación\, Cultura\, Infancias y DGE\, Tadeo García Zalazar\, y el subsecretario de Cultura Diego Gareca presentarán el calendario de actividades de la Fiesta Nacional de la Vendimia 2026. Será en la Subsecretaría de Cultura (España y Gutiérrez\, Ciudad)
URL:https://prensa.mendoza.gob.ar/agenda/subsecretaria-de-cultura/
END:VEVENT
BEGIN:VEVENT
DTSTART;TZID=America/Argentina/Mendoza:20251204T100000
DTEND;TZID=America/Argentina/Mendoza:20251204T170000
DTSTAMP:20260422T072625
CREATED:20251204T113154Z
LAST-MODIFIED:20251204T113203Z
UID:514986-1764842400-1764867600@prensa.mendoza.gob.ar
SUMMARY:GOBERNACIÓN
DESCRIPTION:El Gobernador Alfredo Cornejo\, junto a los subsecretarios de Infraestructura y Desarrollo Territorial\, Marité Badui\, y de Energía y Minería\, Manuel Sánchez Bandini\, realizarán la apertura de sobres de la licitación para la construcción de la Estación Transformadora «Valle de Uco”. Será en el salón Patricias Mendocinas\, cuarto piso de Casa de Gobierno.
URL:https://prensa.mendoza.gob.ar/agenda/gobernacion-9/
END:VEVENT
BEGIN:VEVENT
DTSTART;TZID=America/Argentina/Mendoza:20251204T090000
DTEND;TZID=America/Argentina/Mendoza:20251204T170000
DTSTAMP:20260422T072625
CREATED:20251204T110437Z
LAST-MODIFIED:20251204T110437Z
UID:514963-1764838800-1764867600@prensa.mendoza.gob.ar
SUMMARY:MINISTERIO DE PRODUCCIÓN
DESCRIPTION:El ministro Rodolfo Vargas Arizu participa del 3er Foro Nacional de Comercio “Herramientas que transforman el comercio actual”\, que reunirá a referentes nacionales e internacionales para debatir los desafíos y oportunidades del comercio actual. Será en el Espacio Cultural Julio Le Parc\, Mitre y Godoy Cruz\, Guaymallén.
URL:https://prensa.mendoza.gob.ar/agenda/ministerio-de-produccion-5/
END:VEVENT
BEGIN:VEVENT
DTSTART;TZID=America/Argentina/Mendoza:20251204T083000
DTEND;TZID=America/Argentina/Mendoza:20251204T170000
DTSTAMP:20260422T072625
CREATED:20251204T110403Z
LAST-MODIFIED:20251204T110403Z
UID:514961-1764837000-1764867600@prensa.mendoza.gob.ar
SUMMARY:MINISTERIO DE SEGURIDAD Y JUSTICIA
DESCRIPTION:La ministra de Seguridad y Justicia\, Mercedes Rus y el jefe de la Policía de Mendoza\, Marcelo Calipo\, darán detalles sobre los operativos ante las marchas previstas en los próximos días en Ciudad. Será en el Ministerio de Seguridad y Justicia\, Salta 672 de Godoy Cruz.
URL:https://prensa.mendoza.gob.ar/agenda/ministerio-de-seguridad-y-justicia-3/
END:VEVENT
BEGIN:VEVENT
DTSTART;TZID=America/Argentina/Mendoza:20251203T110000
DTEND;TZID=America/Argentina/Mendoza:20251203T170000
DTSTAMP:20260422T072625
CREATED:20251203T124810Z
LAST-MODIFIED:20251203T124829Z
UID:514610-1764759600-1764781200@prensa.mendoza.gob.ar
SUMMARY:GOBERNACIÓN - SAN MARTÍN
DESCRIPTION:El Gobernador Alfredo Cornejo y el intendente de San Martín\, Raúl Rufeil\, acompañados por la subsecretaria de Infraestructura y Desarrollo Territorial\, Marité Badui\, y por el presidente del IPV\, Gustavo Cantero\, entregarán 24 viviendas del barrio Santa Cecilia Rural. Ubicación: Ruta Provincial 50 s/n Alto Verde\, San Martín. (https://maps.app.goo.gl/D9q7t8g8F57yhycK9?g_st=aw)
URL:https://prensa.mendoza.gob.ar/agenda/gobernacion-8/
END:VEVENT
BEGIN:VEVENT
DTSTART;TZID=America/Argentina/Mendoza:20251203T090000
DTEND;TZID=America/Argentina/Mendoza:20251203T170000
DTSTAMP:20260422T072625
CREATED:20251203T100050Z
LAST-MODIFIED:20251202T130700Z
UID:514315-1764752400-1764781200@prensa.mendoza.gob.ar
SUMMARY:MINISTERIO DE SEGURIDAD Y JUSTICIA / AGENDA EN SAN RAFAEL
DESCRIPTION:Autoridades de la Inspección General de Seguridad (IGS) entregarán reconocimientos al personal policial de la zona Sur que\, mediante actos que exceden el cumplimiento ordinario de sus funciones\, se ha destacado por su profesionalismo a lo largo del 2025. Será en el Centro de Congresos y Exposiciones Alfredo Bufano de San Rafael.
URL:https://prensa.mendoza.gob.ar/agenda/ministerio-de-seguridad-y-justicia-agenda-en-san-rafael/
END:VEVENT
BEGIN:VEVENT
DTSTART;TZID=America/Argentina/Mendoza:20251203T083000
DTEND;TZID=America/Argentina/Mendoza:20251203T170000
DTSTAMP:20260422T072625
CREATED:20251203T035236Z
LAST-MODIFIED:20251202T155357Z
UID:514402-1764750600-1764781200@prensa.mendoza.gob.ar
SUMMARY:MINISTERIO DE PRODUCCIÓN / AGENDA EN JUNÍN
DESCRIPTION:Lanzamiento de la capacitación Pre Enlace Plus: La subsecretaria Emilce Vega Espinoza participa del lanzamiento de esta iniciativa que incorpora capacitación técnica\, desarrollo de habilidades blandas y una etapa productiva real con instancia de comercialización. Junín Punto Limpio – Pergamino s/n\, Los Barriales\, Junín
URL:https://prensa.mendoza.gob.ar/agenda/ministerio-de-produccion-agenda-en-junin/
END:VEVENT
BEGIN:VEVENT
DTSTART;VALUE=DATE:20251203
DTEND;VALUE=DATE:20251204
DTSTAMP:20260422T072625
CREATED:20251203T030133Z
LAST-MODIFIED:20251202T221036Z
UID:514539-1764720000-1764806399@prensa.mendoza.gob.ar
SUMMARY:MINISTERIO DE SALUD Y DEPORTES
DESCRIPTION:En conferencia de prensa\, el ministro Rodolfo Montero brindará detalles sobre la “Estrategia provincial para la reducción de cesáreas”. Lo acompañarán Eva Llopis\, representante de la Organización Panamericana de la Salud\, y directivos de las maternidades públicas y privadas de Mendoza. Será en el Salón Patricias\, 4to Piso de Casa de Gobierno.
URL:https://prensa.mendoza.gob.ar/agenda/ministerio-de-salud-y-deportes-2/
END:VEVENT
END:VCALENDAR