BEGIN:VCALENDAR
VERSION:2.0
PRODID:-//PRENSA GOBIERNO DE MENDOZA - ECPv6.15.18//NONSGML v1.0//EN
CALSCALE:GREGORIAN
METHOD:PUBLISH
X-ORIGINAL-URL:https://prensa.mendoza.gob.ar
X-WR-CALDESC:Eventos para PRENSA GOBIERNO DE MENDOZA
REFRESH-INTERVAL;VALUE=DURATION:PT1H
X-Robots-Tag:noindex
X-PUBLISHED-TTL:PT1H
BEGIN:VTIMEZONE
TZID:America/Argentina/Mendoza
BEGIN:STANDARD
TZOFFSETFROM:-0300
TZOFFSETTO:-0300
TZNAME:-03
DTSTART:20240101T000000
END:STANDARD
END:VTIMEZONE
BEGIN:VEVENT
DTSTART;TZID=America/Argentina/Mendoza:20251202T100000
DTEND;TZID=America/Argentina/Mendoza:20251202T110000
DTSTAMP:20260422T114036
CREATED:20251202T130027Z
LAST-MODIFIED:20251201T181259Z
UID:514173-1764669600-1764673200@prensa.mendoza.gob.ar
SUMMARY:MINISTERIO DE EDUCACIÓN\, CULTURA\, INFANCIAS Y DGE / AGENDA EN SAN RAFAEL
DESCRIPTION:La delegada Sur del Ministerio de Educación\, Cultura\, Infancias y DGE\, María José Sanz\, y el presidente de la Cooperativa Eléctrica de Provisión\, Transformación\, Comercialización\, Consumo\, Servicios Públicos y Vivienda Monte Comán\, Carlos Maunas\, firmarán un convenio por la provisión del servicio de Internet por fibra óptica a establecimientos educativos. \n📌Será en el en el Centro Cívico Cora Teijeiro de Acosta\, Emilio Civit 50 \, San Rafael
URL:https://prensa.mendoza.gob.ar/agenda/ministerio-de-educacion-cultura-infancias-y-dge-agenda-en-san-rafael/
END:VEVENT
BEGIN:VEVENT
DTSTART;TZID=America/Argentina/Mendoza:20251202T090000
DTEND;TZID=America/Argentina/Mendoza:20251202T170000
DTSTAMP:20260422T114036
CREATED:20251202T113742Z
LAST-MODIFIED:20251202T113742Z
UID:514287-1764666000-1764694800@prensa.mendoza.gob.ar
SUMMARY:MINISTERIO DE ENERGÍA Y AMBIENTE - AGENDA EN LONDRES
DESCRIPTION:(12 hora local) La ministra de Energía y Ambiente\, Jimena Latorre\, participará del panel “Los desafíos del cobre: cómo equilibrar la demanda y la oferta para la transición energética” en el marco de la Resourcing Tomorrow. \n 
URL:https://prensa.mendoza.gob.ar/agenda/ministerio-de-energia-y-ambiente-agenda-en-londres/
END:VEVENT
BEGIN:VEVENT
DTSTART;TZID=America/Argentina/Mendoza:20251201T180000
DTEND;TZID=America/Argentina/Mendoza:20251201T180000
DTSTAMP:20260422T114036
CREATED:20251201T180732Z
LAST-MODIFIED:20251201T180815Z
UID:514169-1764612000-1764612000@prensa.mendoza.gob.ar
SUMMARY:MINISTERIO DE SEGURIDAD Y JUSTICIA
DESCRIPTION:El Gobernador Alfredo Cornejo y la ministra de Seguridad y Justicia Mercedes Rus encabezarán el acto por el 27º aniversario del Instituto Universitario de Seguridad Pública (IUSP)\, donde se presentarán los 556 nuevos policías que se suman a las fuerzas de seguridad. Será en la Explanada de Casa de Gobierno. \n  \n 
URL:https://prensa.mendoza.gob.ar/agenda/ministerio-de-seguridad-y-justicia-2/
END:VEVENT
BEGIN:VEVENT
DTSTART;TZID=America/Argentina/Mendoza:20251201T120000
DTEND;TZID=America/Argentina/Mendoza:20251201T190000
DTSTAMP:20260422T114036
CREATED:20251201T030108Z
LAST-MODIFIED:20251129T003945Z
UID:513749-1764590400-1764615600@prensa.mendoza.gob.ar
SUMMARY:MINISTERIO DE GOBIERNO\, INFRAESTRUCTURA Y DESARROLLO TERRITORIAL
DESCRIPTION:Casa de Mendoza. Ciudad de Buenos Aires.\nLa Feria Barricas Mendocinas\, en su tercera edición\, ofrecerá degustaciones gratuitas y venta promocional de vinos elaborados en distintas regiones de la provincia. La propuesta busca poner en valor la producción vitivinícola mendocina y acercarla al público de la Ciudad de Buenos Aires.\nLa feria se llevará a cabo en la Casa de Mendoza\, Avenida Callao 445\, Ciudad Autónoma de Buenos Aires\, del 1 al 5 de diciembre\, de 12 a 19.
URL:https://prensa.mendoza.gob.ar/agenda/ministerio-de-gobierno-infraestructura-y-desarrollo-territorial-8/
END:VEVENT
BEGIN:VEVENT
DTSTART;TZID=America/Argentina/Mendoza:20251201T104500
DTEND;TZID=America/Argentina/Mendoza:20251201T170000
DTSTAMP:20260422T114036
CREATED:20251201T113916Z
LAST-MODIFIED:20251201T114401Z
UID:514046-1764585900-1764608400@prensa.mendoza.gob.ar
SUMMARY:GOBERNACIÓN
DESCRIPTION:El Gobernador Alfredo Cornejo; junto al ministro de Salud y Deportes\, Rodolfo Montero y a la subsecretaría de Infraestructura\, Marité Badui\, participará del acto de apertura de sobres de la licitación con las ofertas para la construcción del Centro Ambulatorio del Hospital Dr. Humberto Notti.  Será en el Centro de Congresos y Exposiciones\, Ciudad de Mendoza.
URL:https://prensa.mendoza.gob.ar/agenda/gobernacion-7/
END:VEVENT
BEGIN:VEVENT
DTSTART;TZID=America/Argentina/Mendoza:20251130T113000
DTEND;TZID=America/Argentina/Mendoza:20251130T170000
DTSTAMP:20260422T114036
CREATED:20251130T033314Z
LAST-MODIFIED:20251128T103423Z
UID:513206-1764502200-1764522000@prensa.mendoza.gob.ar
SUMMARY:SUBSECRETARÍA DE DEPORTES
DESCRIPTION:El subsecretario de Deportes\, Federico Chiapetta\, junto al director de Alto Rendimiento\, Mauricio Ginestar\, presenciarán el desarrollo de la carrera del Gran Premio Coronación del Turismo Nacional (TN) y Turismo Carretera 2000 y la premiación. Será en el Autódromo General San Martín de San Martín.
URL:https://prensa.mendoza.gob.ar/agenda/subsecretaria-de-deportes-4/
END:VEVENT
BEGIN:VEVENT
DTSTART;TZID=America/Argentina/Mendoza:20251128T190000
DTEND;TZID=America/Argentina/Mendoza:20251128T190000
DTSTAMP:20260422T114036
CREATED:20251128T030206Z
LAST-MODIFIED:20251127T150255Z
UID:513196-1764356400-1764356400@prensa.mendoza.gob.ar
SUMMARY:SUBSECRETARÍA DE DEPORTES
DESCRIPTION:El subsecretario de Deportes\, Federico Chiapetta\, junto al director de Alto Rendimiento\, Mauricio Ginestar\, acompañarán la conferencia de prensa especial\, donde todos los pilotos del TN y Turismo Carretera 2.000 firmarán autógrafos para el público. Será en el Paseo de la Patria de la Municipalidad de San Martín.
URL:https://prensa.mendoza.gob.ar/agenda/subsecretaria-de-deportes-3/
END:VEVENT
BEGIN:VEVENT
DTSTART;TZID=America/Argentina/Mendoza:20251128T120000
DTEND;TZID=America/Argentina/Mendoza:20251128T130000
DTSTAMP:20260422T114036
CREATED:20251128T191133Z
LAST-MODIFIED:20251128T103449Z
UID:513286-1764331200-1764334800@prensa.mendoza.gob.ar
SUMMARY:MINISTERIO DE PRODUCCIÓN
DESCRIPTION:Foro Logístico Mendoza 2025 – Panel “Intendente en territorio: logística y gestión municipal”\nEn el marco del Foro Logístico Mendoza 2025\, el ministro Rodolfo Vargas Arizu participa en el panel especializado junto a los intendentes Esteban Allasino (Luján de Cuyo)\, Raúl Rufeil (San Martín) y Celso Jaque (Malargüe)\, donde se abordarán los desafíos logísticos desde la perspectiva de los gobiernos locales. \nNave Cultural\, Las Cubas 201\, Mendoza.
URL:https://prensa.mendoza.gob.ar/agenda/ministerio-de-produccion-3/
END:VEVENT
BEGIN:VEVENT
DTSTART;TZID=America/Argentina/Mendoza:20251128T103000
DTEND;TZID=America/Argentina/Mendoza:20251128T170000
DTSTAMP:20260422T114036
CREATED:20251128T030121Z
LAST-MODIFIED:20251128T120815Z
UID:513415-1764325800-1764349200@prensa.mendoza.gob.ar
SUMMARY:GOBERNACIÓN/AGENDA EN SAN RAFAEL
DESCRIPTION:El Gobernador Alfredo Cornejo visitará las obras de ampliación de capacidad de la Estación Transformadora Pedro Vargas\, uno de los nodos más importantes del sistema eléctrico del Sur de Mendoza. Ubicación https://maps.app.goo.gl/ZeDTtv38JojsWUdu8
URL:https://prensa.mendoza.gob.ar/agenda/gobernacion-agenda-en-san-rafael/
END:VEVENT
BEGIN:VEVENT
DTSTART;TZID=America/Argentina/Mendoza:20251128T100000
DTEND;TZID=America/Argentina/Mendoza:20251128T170000
DTSTAMP:20260422T114036
CREATED:20251128T121531Z
LAST-MODIFIED:20251128T121531Z
UID:513457-1764324000-1764349200@prensa.mendoza.gob.ar
SUMMARY:MINISTERIO DE GOBIERNO\, INFRAESTRUCTURA Y DESARROLLO TERRITORIAL/ AGENDA EN BUENOS AIRES
DESCRIPTION:La Casa de Mendoza en Buenos Aires invita a recorrer «Hecho en Mendoza – Ruta de sabores y artesanías»\, una propuesta que reúne a productos artesanales\, creaciones locales y gastronomía mendocina. El evento busca difundir la esencia y diversidad de la producción provincial\, promoviendo el consumo responsable y el fortalecimiento del sector emprendedor. Será en Avenida Callao 445\, Ciudad Autónoma de Buenos Aires.
URL:https://prensa.mendoza.gob.ar/agenda/ministerio-de-gobierno-infraestructura-y-desarrollo-territorial-agenda-en-buenos-aires-6/
END:VEVENT
BEGIN:VEVENT
DTSTART;TZID=America/Argentina/Mendoza:20251128T090000
DTEND;TZID=America/Argentina/Mendoza:20251128T170000
DTSTAMP:20260422T114036
CREATED:20251128T110249Z
LAST-MODIFIED:20251128T110404Z
UID:513413-1764320400-1764349200@prensa.mendoza.gob.ar
SUMMARY:MINISTERIO DE PRODUCCIÓN / AGENDA
DESCRIPTION:Foro Logístico Mendoza 2025: “Conectando Futuro”. El ministro Rodolfo Vargas Arizu\, junto a los subsecretarios Alberto Marengo y Emilce Vega Espinoza\, participa del foro que reunirá a referentes públicos y privados para abordar los desafíos y oportunidades de la logística en la provincia. Nave Cultural\, Las Cubas 201\, Mendoza.
URL:https://prensa.mendoza.gob.ar/agenda/ministerio-de-produccion-agenda/
END:VEVENT
BEGIN:VEVENT
DTSTART;TZID=America/Argentina/Mendoza:20251128T090000
DTEND;TZID=America/Argentina/Mendoza:20251128T110000
DTSTAMP:20260422T114036
CREATED:20251128T030534Z
LAST-MODIFIED:20251127T191118Z
UID:513284-1764320400-1764327600@prensa.mendoza.gob.ar
SUMMARY:MINISTERIO DE PRODUCCIÓN
DESCRIPTION:Foro Logístico Mendoza 2025: “Conectando Futuro”.\nEl ministro Rodolfo Vargas Arizu\, junto a los subsecretarios Alberto Marengo y Emilce Vega Espinoza\, participa del foro que reunirá a referentes públicos y privados para abordar los desafíos y oportunidades de la logística en la provincia. \nNave Cultural\, Las Cubas 201\, Mendoza.
URL:https://prensa.mendoza.gob.ar/agenda/ministerio-de-produccion-2/
END:VEVENT
BEGIN:VEVENT
DTSTART;TZID=America/Argentina/Mendoza:20251128T083000
DTEND;TZID=America/Argentina/Mendoza:20251128T170000
DTSTAMP:20260422T114036
CREATED:20251128T110144Z
LAST-MODIFIED:20251128T110144Z
UID:513410-1764318600-1764349200@prensa.mendoza.gob.ar
SUMMARY:MINISTERIO DE SEGURIDAD Y JUSTICIA
DESCRIPTION:La ministra de Seguridad y Justicia Mercedes Rus y la fiscal general de Distrito Cuyo María Gloria André\, darán detalles del operativo de la Policía de Mendoza donde se secuestraron alrededor de 90 kilos de cocaína. Será en el Ministerio de Seguridad y Justicia\, Salta 672 de Godoy Cruz.
URL:https://prensa.mendoza.gob.ar/agenda/ministerio-de-seguridad-y-justicia/
END:VEVENT
BEGIN:VEVENT
DTSTART;TZID=America/Argentina/Mendoza:20251127T140000
DTEND;TZID=America/Argentina/Mendoza:20251127T170000
DTSTAMP:20260422T114036
CREATED:20251127T142841Z
LAST-MODIFIED:20251127T142841Z
UID:513177-1764252000-1764262800@prensa.mendoza.gob.ar
SUMMARY:GOBERNACIÓN
DESCRIPTION:El Gobernador Alfredo Cornejo participará del acto por el 25º aniversario de la creación de la Reserva Natural Villavicencio como área natural protegida. Será en ruta provincial 52\, km 50\, Las Heras.\nUbicación https://maps.app.goo.gl/fzzAU85g5ZcG4FKa8?g_st=aw
URL:https://prensa.mendoza.gob.ar/agenda/gobernacion-6/
END:VEVENT
BEGIN:VEVENT
DTSTART;TZID=America/Argentina/Mendoza:20251127T140000
DTEND;TZID=America/Argentina/Mendoza:20251127T170000
DTSTAMP:20260422T114036
CREATED:20251127T110003Z
LAST-MODIFIED:20251126T140939Z
UID:512989-1764252000-1764262800@prensa.mendoza.gob.ar
SUMMARY:MINISTERIO DE PRODUCCIÓN
DESCRIPTION:Jornada de Finanzas en Zona Este. La directora Malena Carricondo participa de la jornada de formación destinada a comercios\, pymes y empresas de la Zona Este.  Neuquén 75\, Junín\, Mendoza.
URL:https://prensa.mendoza.gob.ar/agenda/ministerio-de-produccion/
END:VEVENT
BEGIN:VEVENT
DTSTART;TZID=America/Argentina/Mendoza:20251127T123000
DTEND;TZID=America/Argentina/Mendoza:20251127T170000
DTSTAMP:20260422T114036
CREATED:20251127T124928Z
LAST-MODIFIED:20251127T124928Z
UID:513155-1764246600-1764262800@prensa.mendoza.gob.ar
SUMMARY:MINISTERIO DE SEGURIDAD Y JUSTICIA / AGENDA EN RIVADAVIA
DESCRIPTION:En el marco del programa Convive Seguro\, el director general de Relaciones con la Comunidad\, Hernán Amat\, participará de un encuentro para adultos mayores que incluirá una jornada de promoción de la salud y prevención de delitos. Camping Soeva\, calle La Libertad s/n\, La Libertad\, Rivadavia.
URL:https://prensa.mendoza.gob.ar/agenda/ministerio-de-seguridad-y-justicia-agenda-en-rivadavia/
END:VEVENT
BEGIN:VEVENT
DTSTART;TZID=America/Argentina/Mendoza:20251127T100000
DTEND;TZID=America/Argentina/Mendoza:20251127T170000
DTSTAMP:20260422T114036
CREATED:20251127T032458Z
LAST-MODIFIED:20251126T152535Z
UID:513041-1764237600-1764262800@prensa.mendoza.gob.ar
SUMMARY:MINISTERIO DE GOBIERNO\, INFRAESTRUCTURA Y DESARROLLO TERRITORIAL/ AGENDA EN BUENOS AIRES
DESCRIPTION:La Casa de Mendoza en Buenos Aires invita a recorrer «Hecho en Mendoza – Ruta de sabores y artesanías»\, una propuesta que reúne productos artesanales\, creaciones locales y gastronomía mendocina. El evento busca difundir la esencia y diversidad de la producción provincial\, promoviendo el consumo responsable y el fortalecimiento del sector emprendedor. Será en Avenida Callao 445\, Ciudad Autónoma de Buenos Aires.
URL:https://prensa.mendoza.gob.ar/agenda/ministerio-de-gobierno-infraestructura-y-desarrollo-territorial-agenda-en-buenos-aires-4/
END:VEVENT
BEGIN:VEVENT
DTSTART;TZID=America/Argentina/Mendoza:20251127T090000
DTEND;TZID=America/Argentina/Mendoza:20251127T170000
DTSTAMP:20260422T114036
CREATED:20251127T124543Z
LAST-MODIFIED:20251127T124543Z
UID:513142-1764234000-1764262800@prensa.mendoza.gob.ar
SUMMARY:MINISTERIO DE GOBIERNO\, INFRAESTRUCTURA Y DESARROLLO TERRITORIAL
DESCRIPTION:Controles oftalmológicos y entrega de anteojos sin costo para beneficiarios del área metropolitana de Mendoza\, en el marco del programa nacional “Ver para Ser Libres”\, en coordinación con los municipios del Gran Mendoza y unidades móviles especializadas. \nGodoy Cruz. Sede: Polideportivo Padre Contreras. Ubicación: Rawson y Vélez Sarsfield\, barrio Las Tortugas \nCiudad de Mendoza. Escuela Raffo de la Reta (N° 1-543). Ubicación: Potrerillos s/n\, Barrio San Martín.
URL:https://prensa.mendoza.gob.ar/agenda/ministerio-de-gobierno-infraestructura-y-desarrollo-territorial-7/
END:VEVENT
BEGIN:VEVENT
DTSTART;TZID=America/Argentina/Mendoza:20251126T120000
DTEND;TZID=America/Argentina/Mendoza:20251126T130000
DTSTAMP:20260422T114036
CREATED:20251126T031329Z
LAST-MODIFIED:20251126T031329Z
UID:512951-1764158400-1764162000@prensa.mendoza.gob.ar
SUMMARY:Emetur
DESCRIPTION:La presidenta del Ente Mendoza Turismo\, Gabriela Testa\, junto a funcionarios de la cartera y de diversos ministerios\, participará de la inauguración del Paseo de los Olivos\, sitio histórico y patrimonial\, con valor turístico. \n📍 Será en la fuente del Parque Cívico.
URL:https://prensa.mendoza.gob.ar/agenda/emetur/
END:VEVENT
BEGIN:VEVENT
DTSTART;TZID=America/Argentina/Mendoza:20251126T110000
DTEND;TZID=America/Argentina/Mendoza:20251126T170000
DTSTAMP:20260422T114036
CREATED:20251126T152142Z
LAST-MODIFIED:20251126T152142Z
UID:513037-1764154800-1764176400@prensa.mendoza.gob.ar
SUMMARY:MINISTERIO DE GOBIERNO\, INFRAESTRUCTURA Y DESARROLLO TERRITORIAL/ AGENDA EN BUENOS AIRES
DESCRIPTION:La Casa de Mendoza en Buenos Aires invita a recorrer «Hecho en Mendoza – Ruta de sabores y artesanías»\, una propuesta que reúne productos artesanales\, creaciones locales y gastronomía mendocina. El evento busca difundir la esencia y diversidad de la producción provincial\, promoviendo el consumo responsable y el fortalecimiento del sector emprendedor. Será en Avenida Callao 445\, Ciudad Autónoma de Buenos Aires.
URL:https://prensa.mendoza.gob.ar/agenda/ministerio-de-gobierno-infraestructura-y-desarrollo-territorial-agenda-en-buenos-aires-2/
END:VEVENT
BEGIN:VEVENT
DTSTART;TZID=America/Argentina/Mendoza:20251126T110000
DTEND;TZID=America/Argentina/Mendoza:20251126T170000
DTSTAMP:20260422T114036
CREATED:20251126T123031Z
LAST-MODIFIED:20251126T123031Z
UID:512970-1764154800-1764176400@prensa.mendoza.gob.ar
SUMMARY:GOBERNACIÓN/ BUENOS AIRES
DESCRIPTION:El Gobernador Alfredo Cornejo participará de la última reunión del Consejo de Mayo\, antes de la presentación del informe final que será el mes próximo. Será en el Salón de los Escudos del Ministerio del Interior\, Casa Rosada\, Buenos Aires.
URL:https://prensa.mendoza.gob.ar/agenda/gobernacion-buenos-aires/
END:VEVENT
BEGIN:VEVENT
DTSTART;TZID=America/Argentina/Mendoza:20251126T093000
DTEND;TZID=America/Argentina/Mendoza:20251126T093000
DTSTAMP:20260422T114036
CREATED:20251126T031627Z
LAST-MODIFIED:20251126T031627Z
UID:512953-1764149400-1764149400@prensa.mendoza.gob.ar
SUMMARY:INFRAESTRUCTURA / IPV
DESCRIPTION:La vicegobernadora Hebe Casado\, junto a la subsecretaría de Infraestructura Marité Badui\, al intendente de Godoy Cruz Diego Costarelli y el presidente del IPV\, Gustavo Cantero\, entregarán 80 viviendas del Bº Joaquín Lavado. \n📍 Será en Juan Domingo Perón norte S/Nº. \nhttps://maps.app.goo.gl/2cmWAVePMg5vYMVR8
URL:https://prensa.mendoza.gob.ar/agenda/infraestructura-ipv/
END:VEVENT
BEGIN:VEVENT
DTSTART;TZID=America/Argentina/Mendoza:20251126T090000
DTEND;TZID=America/Argentina/Mendoza:20251126T170000
DTSTAMP:20260422T114036
CREATED:20251126T111335Z
LAST-MODIFIED:20251126T112358Z
UID:512963-1764147600-1764176400@prensa.mendoza.gob.ar
SUMMARY:MINISTERIO DE GOBIERNO\, INFRAESTRUCTURA Y DESARROLLO TERRITORIAL
DESCRIPTION:Controles oftalmológicos y entrega de anteojos sin costo para beneficiarios del área metropolitana de Mendoza\, en el marco del programa nacional “Ver para Ser Libres”\, en coordinación con los municipios del Gran Mendoza y unidades móviles especializadas. CAPS 39. Ubicación: Ferroviario Argentino y Los Barrancos\, Ugarteche\, Luján de Cuyo. Escuela 1-750. Barrio Corazón de Jesús\, Gutiérrez\, Maipú.
URL:https://prensa.mendoza.gob.ar/agenda/ministerio-de-gobierno-infraestructura-y-desarrollo-territorial-6/
END:VEVENT
BEGIN:VEVENT
DTSTART;TZID=America/Argentina/Mendoza:20251126T080000
DTEND;TZID=America/Argentina/Mendoza:20251126T170000
DTSTAMP:20260422T114036
CREATED:20251126T152453Z
LAST-MODIFIED:20251126T152453Z
UID:513039-1764144000-1764176400@prensa.mendoza.gob.ar
SUMMARY:MINISTERIO DE GOBIERNO\, INFRAESTRUCTURA Y DESARROLLO TERRITORIAL/ AGENDA EN BUENOS AIRES
DESCRIPTION:La Casa de Mendoza en Buenos Aires invita a recorrer «Hecho en Mendoza – Ruta de sabores y artesanías»\, una propuesta que reúne productos artesanales\, creaciones locales y gastronomía mendocina. El evento busca difundir la esencia y diversidad de la producción provincial\, promoviendo el consumo responsable y el fortalecimiento del sector emprendedor. Será en Avenida Callao 445\, Ciudad Autónoma de Buenos Aires.
URL:https://prensa.mendoza.gob.ar/agenda/ministerio-de-gobierno-infraestructura-y-desarrollo-territorial-agenda-en-buenos-aires-3/
END:VEVENT
BEGIN:VEVENT
DTSTART;TZID=America/Argentina/Mendoza:20251125T123000
DTEND;TZID=America/Argentina/Mendoza:20251125T170000
DTSTAMP:20260422T114036
CREATED:20251125T133706Z
LAST-MODIFIED:20251125T133749Z
UID:512776-1764073800-1764090000@prensa.mendoza.gob.ar
SUMMARY:GOBERNACIÓN
DESCRIPTION:El Gobernador Alfredo Cornejo asistirá a la inauguración de la obra «Extensión colector aluvional Blanco Encalada». Será en el Colector Blanco Encalada\, Luján de Cuyo. https://maps.app.goo.gl/cE3bB4Vkm2s1pFCH6?g_st=aw
URL:https://prensa.mendoza.gob.ar/agenda/gobernacion-5/
END:VEVENT
BEGIN:VEVENT
DTSTART;TZID=America/Argentina/Mendoza:20251125T100000
DTEND;TZID=America/Argentina/Mendoza:20251125T190000
DTSTAMP:20260422T114036
CREATED:20251124T030125Z
LAST-MODIFIED:20251126T152059Z
UID:512662-1764064800-1764097200@prensa.mendoza.gob.ar
SUMMARY:MINISTERIO DE GOBIERNO\, INFRAESTRUCTURA Y DESARROLLO TERRITORIAL/ AGENDA EN BUENOS AIRES
DESCRIPTION:La Casa de Mendoza en Buenos Aires invita a recorrer «Hecho en Mendoza – Ruta de sabores y artesanías»\, una propuesta que reúne productos artesanales\, creaciones locales y gastronomía mendocina. El evento busca difundir la esencia y diversidad de la producción provincial\, promoviendo el consumo responsable y el fortalecimiento del sector emprendedor. Será en Avenida Callao 445\, Ciudad Autónoma de Buenos Aires.
URL:https://prensa.mendoza.gob.ar/agenda/ministerio-de-gobierno-infraestructura-y-desarrollo-territorial-4/
END:VEVENT
BEGIN:VEVENT
DTSTART;TZID=America/Argentina/Mendoza:20251125T093000
DTEND;TZID=America/Argentina/Mendoza:20251125T170000
DTSTAMP:20260422T114036
CREATED:20251125T105603Z
LAST-MODIFIED:20251125T105626Z
UID:512729-1764063000-1764090000@prensa.mendoza.gob.ar
SUMMARY:MINISTERIO DE GOBIERNO\, INFRAESTRUCTURA Y DESARROLLO TERRITORIAL
DESCRIPTION:En el marco de las políticas de fortalecimiento del sector emprendedor y de la economía social\, se realizará la entrega de subsidios y apoyos económicos destinados a emprendimientos registrados en el RUESyS. Asistirá la directora de Economía Social\, Lorena Meschini. La actividad busca acompañar el desarrollo productivo local\, promover la sostenibilidad de los emprendimientos y consolidar herramientas que impulsen la inclusión económica. Tendrá lugar en el Mercado Artesanal Mendocino\, ubicado en San Martín 1133\, Ciudad de Mendoza.
URL:https://prensa.mendoza.gob.ar/agenda/ministerio-de-gobierno-infraestructura-y-desarrollo-territorial-5/
END:VEVENT
BEGIN:VEVENT
DTSTART;TZID=America/Argentina/Mendoza:20251120T190000
DTEND;TZID=America/Argentina/Mendoza:20251120T190000
DTSTAMP:20260422T114036
CREATED:20251120T030423Z
LAST-MODIFIED:20251119T144958Z
UID:511826-1763665200-1763665200@prensa.mendoza.gob.ar
SUMMARY:SUBSECRETARÍA DE DEPORTES
DESCRIPTION:El subsecretario de deportes\, Federico Chiapetta\, participará en la presentación y conferencia del Torneo Abierto de la República de la Asociación Argentina de Squash. Será en Pan Boedo Camp\, Lateral Este Acceso Sur y Boedo.
URL:https://prensa.mendoza.gob.ar/agenda/subsecretaria-de-deportes/
END:VEVENT
BEGIN:VEVENT
DTSTART;TZID=America/Argentina/Mendoza:20251120T123000
DTEND;TZID=America/Argentina/Mendoza:20251120T170000
DTSTAMP:20260422T114036
CREATED:20251120T120126Z
LAST-MODIFIED:20251120T120351Z
UID:512180-1763641800-1763658000@prensa.mendoza.gob.ar
SUMMARY:GOBERNACIÓN/ AGENDA EN BUENOS AIRES
DESCRIPTION:El embajador de Estados Unidos en Argentina\, Peter Lamelas\, recibirá al Gobernador Alfredo Cornejo\, el primer mandatario provincial convocado por el diplomático. Será en el Palacio Bosch\, CABA.
URL:https://prensa.mendoza.gob.ar/agenda/gobernacion-agenda-en-buenos-aires-2/
END:VEVENT
BEGIN:VEVENT
DTSTART;TZID=America/Argentina/Mendoza:20251120T090000
DTEND;TZID=America/Argentina/Mendoza:20251120T170000
DTSTAMP:20260422T114036
CREATED:20251120T120013Z
LAST-MODIFIED:20251120T121719Z
UID:512177-1763629200-1763658000@prensa.mendoza.gob.ar
SUMMARY:GOBERNACIÓN/ AGENDA EN BUENOS AIRES
DESCRIPTION:El Gobernador Alfredo Cornejo expondrá en la sexta edición del Programa Federal de Formación «Gestión para el desarrollo». Será en Goldcenter Eventos\, CABA. \n 
URL:https://prensa.mendoza.gob.ar/agenda/gobernacion-agenda-en-buenos-aires/
END:VEVENT
END:VCALENDAR