BEGIN:VCALENDAR
VERSION:2.0
PRODID:-//PRENSA GOBIERNO DE MENDOZA - ECPv6.15.18//NONSGML v1.0//EN
CALSCALE:GREGORIAN
METHOD:PUBLISH
X-WR-CALNAME:PRENSA GOBIERNO DE MENDOZA
X-ORIGINAL-URL:https://prensa.mendoza.gob.ar
X-WR-CALDESC:Eventos para PRENSA GOBIERNO DE MENDOZA
REFRESH-INTERVAL;VALUE=DURATION:PT1H
X-Robots-Tag:noindex
X-PUBLISHED-TTL:PT1H
BEGIN:VTIMEZONE
TZID:America/Argentina/Mendoza
BEGIN:STANDARD
TZOFFSETFROM:-0300
TZOFFSETTO:-0300
TZNAME:-03
DTSTART:20240101T000000
END:STANDARD
END:VTIMEZONE
BEGIN:VEVENT
DTSTART;TZID=America/Argentina/Mendoza:20251113T092000
DTEND;TZID=America/Argentina/Mendoza:20251113T170000
DTSTAMP:20260422T174455
CREATED:20251114T110047Z
LAST-MODIFIED:20251113T232820Z
UID:510951-1763025600-1763053200@prensa.mendoza.gob.ar
SUMMARY:GOBERNACIÓN
DESCRIPTION:El Gobernador Alfredo Cornejo\, junto a sus pares de San Juan\, Marcelo Orrego; de Catamarca\, Raúl Jalil y de Jujuy\, Carlos Sadir\, participará de la mesa de cobre en el “Finance Day & TSX Roadshow”\, dentro del marco de la 4th LATAM & Argentina Critical Minerals Summit 2025. Será en la Bolsa de Comercio\, Sarmiento 165 de Ciudad.
URL:https://prensa.mendoza.gob.ar/agenda/gobernacion/
END:VEVENT
BEGIN:VEVENT
DTSTART;TZID=America/Argentina/Mendoza:20251113T090000
DTEND;TZID=America/Argentina/Mendoza:20251113T170000
DTSTAMP:20260422T174455
CREATED:20251113T055430Z
LAST-MODIFIED:20251113T055430Z
UID:510543-1763024400-1763053200@prensa.mendoza.gob.ar
SUMMARY:MINISTERIO DE EDUCACIÓN\, CULTURA\, INFANCIAS Y DGE
DESCRIPTION:El director de Educación Técnica y Trabajo\, Claudio Dagne\, y el coordinador de Educación Superior\, José Reche\, participarán del cierre de la Semana Federal de la Educación Técnica. Será en el Espacio Cultural Julio Le Parc\, Mitre y Godoy Cruz\, Guaymallén.
URL:https://prensa.mendoza.gob.ar/agenda/ministerio-de-educacion-cultura-infancias-y-dge/
END:VEVENT
END:VCALENDAR