BEGIN:VCALENDAR
VERSION:2.0
PRODID:-//PRENSA GOBIERNO DE MENDOZA - ECPv6.15.18//NONSGML v1.0//EN
CALSCALE:GREGORIAN
METHOD:PUBLISH
X-WR-CALNAME:PRENSA GOBIERNO DE MENDOZA
X-ORIGINAL-URL:https://prensa.mendoza.gob.ar
X-WR-CALDESC:Eventos para PRENSA GOBIERNO DE MENDOZA
REFRESH-INTERVAL;VALUE=DURATION:PT1H
X-Robots-Tag:noindex
X-PUBLISHED-TTL:PT1H
BEGIN:VTIMEZONE
TZID:America/Argentina/Mendoza
BEGIN:STANDARD
TZOFFSETFROM:-0300
TZOFFSETTO:-0300
TZNAME:-03
DTSTART:20250101T000000
END:STANDARD
END:VTIMEZONE
BEGIN:VEVENT
DTSTART;TZID=America/Argentina/Mendoza:20260326T100000
DTEND;TZID=America/Argentina/Mendoza:20260326T120000
DTSTAMP:20260419T175252
CREATED:20260326T113015Z
LAST-MODIFIED:20260326T015116Z
UID:533862-1774519200-1774526400@prensa.mendoza.gob.ar
SUMMARY:MINISTERIO DE SALUD Y DEPORTES
DESCRIPTION:El ministro Rodolfo Montero presentara la Campaña Provincial “1 test – cero cáncer”\, estrategia sanitaria que busca detectar de manera temprana las infecciones por el Virus del papiloma humano (HPV). Será en el SUM del Hospital Paroissien\, ubicado en Godoy Cruz 475\, de Maipú.
URL:https://prensa.mendoza.gob.ar/agenda/ministerio-de-salud-y-deportes-18/
END:VEVENT
BEGIN:VEVENT
DTSTART;TZID=America/Argentina/Mendoza:20260326T095500
DTEND;TZID=America/Argentina/Mendoza:20260326T170000
DTSTAMP:20260419T175252
CREATED:20260326T113750Z
LAST-MODIFIED:20260326T114044Z
UID:533870-1774518900-1774544400@prensa.mendoza.gob.ar
SUMMARY:GOBERNACIÓN
DESCRIPTION:El gobernador Alfredo Cornejo\, el ministro de Gobierno\, Infraestructura y Desarrollo Territorial Natalio Mema y el subsecretario de Transporte Luis Borrego encabezarán la apertura de sobres de la segunda etapa del sistema de semáforos inteligentes\, destinada a ampliar y modernizar intersecciones del Área Metropolitana. Salón Patricias\, 4º piso\, Casa de Gobierno.
URL:https://prensa.mendoza.gob.ar/agenda/gobernacion-54/
END:VEVENT
BEGIN:VEVENT
DTSTART;TZID=America/Argentina/Mendoza:20260325T120000
DTEND;TZID=America/Argentina/Mendoza:20260325T170000
DTSTAMP:20260419T175252
CREATED:20260325T120838Z
LAST-MODIFIED:20260325T120838Z
UID:533584-1774440000-1774458000@prensa.mendoza.gob.ar
SUMMARY:GOBERNACIÓN
DESCRIPTION:El Gobernador Alfredo Cornejo\, junto a la ministra de Seguridad y Justicia Mercedes Rus y al intendente de Ciudad\, Ulpiano Suárez\, participará de la presentación del anillo digital de seguridad y el centro de operaciones y videovigilancia de la capital de Mendoza. Será en la Municipalidad de Ciudad\, 9 de Julio 500.
URL:https://prensa.mendoza.gob.ar/agenda/gobernacion-52/
END:VEVENT
BEGIN:VEVENT
DTSTART;TZID=America/Argentina/Mendoza:20260325T110000
DTEND;TZID=America/Argentina/Mendoza:20260325T170000
DTSTAMP:20260419T175252
CREATED:20260325T120951Z
LAST-MODIFIED:20260325T121053Z
UID:533586-1774436400-1774458000@prensa.mendoza.gob.ar
SUMMARY:SUBSECRETARÍA DE CULTURA
DESCRIPTION:El subsecretario de Cultura Diego Gareca presentará la programación completa de la XXVI edición de Música Clásica por los Caminos del Vino 2026. Será en la Subsecretaría de Cultura (España y Gutiérrez\, Ciudad).
URL:https://prensa.mendoza.gob.ar/agenda/subsecretaria-de-cultura-4/
END:VEVENT
BEGIN:VEVENT
DTSTART;TZID=America/Argentina/Mendoza:20260325T100000
DTEND;TZID=America/Argentina/Mendoza:20260325T170000
DTSTAMP:20260419T175252
CREATED:20260326T035136Z
LAST-MODIFIED:20260325T145306Z
UID:533671-1774432800-1774458000@prensa.mendoza.gob.ar
SUMMARY:MINISTERIO DE SALUD Y DEPORTES
DESCRIPTION:El ministro Rodolfo Montero presentara la Campaña Provincial “1 test – cero cáncer”\, estrategia sanitaria que busca detectar de manera temprana las infecciones por el virus del papiloma humano (HPV). Será en el SUM del Hospital Paroissien\, ubicado en Godoy Cruz 475\, de Maipú.
URL:https://prensa.mendoza.gob.ar/agenda/ministerio-de-salud-y-deportes-17/
END:VEVENT
BEGIN:VEVENT
DTSTART;TZID=America/Argentina/Mendoza:20260325T093000
DTEND;TZID=America/Argentina/Mendoza:20260325T170000
DTSTAMP:20260419T175252
CREATED:20260325T120716Z
LAST-MODIFIED:20260325T120716Z
UID:533581-1774431000-1774458000@prensa.mendoza.gob.ar
SUMMARY:GOBERNACIÓN
DESCRIPTION:El Gobernador Alfredo Cornejo\, junto con el gobernador del Maule\, Pedro Pablo Álvarez Salamanca Ramírez y el ministro de Producción\, Rodolfo Vargas Arizu\, asistirá al Encuentro de Integración Pehuenche\, cuyo objetivo es generar un espacio de trabajo anticipado que permita ordenar la agenda y alinear prioridades entre Argentina y Chile. Será en el Mendoza TIC Parque Tecnológico\, Rafael Cubillos 2056\, Godoy Cruz. \n 
URL:https://prensa.mendoza.gob.ar/agenda/gobernacion-51/
END:VEVENT
BEGIN:VEVENT
DTSTART;TZID=America/Argentina/Mendoza:20260325T090000
DTEND;TZID=America/Argentina/Mendoza:20260325T170000
DTSTAMP:20260419T175252
CREATED:20260325T105804Z
LAST-MODIFIED:20260325T105906Z
UID:533565-1774429200-1774458000@prensa.mendoza.gob.ar
SUMMARY:MINISTERIO DE EDUCACIÓN\, CULTURA\, INFANCIAS Y DGE
DESCRIPTION:La directora de Evaluación de la Calidad Educativa\, Romina Durán\, y la directora de Educación Primaria\, Raquel Ghilardi\, brindarán detalles del Censo de Fluidez y Comprensión Lectora 2026. Será en la Escuela 1-123 Patricias Mendocinas\, Gutiérrez 338\, Ciudad.
URL:https://prensa.mendoza.gob.ar/agenda/ministerio-de-educacion-cultura-infancias-y-dge-6/
END:VEVENT
BEGIN:VEVENT
DTSTART;TZID=America/Argentina/Mendoza:20260319T113000
DTEND;TZID=America/Argentina/Mendoza:20260319T170000
DTSTAMP:20260419T175252
CREATED:20260319T122112Z
LAST-MODIFIED:20260319T122210Z
UID:532678-1773919800-1773939600@prensa.mendoza.gob.ar
SUMMARY:GOBERNACIÓN
DESCRIPTION:El Gobernador Alfredo Cornejo; el ministro de Gobierno\, Infraestructura y Desarrollo Territorial\, Natalio Mema; la subsecretaria de Infraestructura y Desarrollo Territorial\, Marité Badui; y el administrador del Dirección Provincial de Vialidad (DPV)\, Osvaldo Romagnoli\, encabezarán la inauguración de la renovación y pavimentacion de la ruta de Gualtallary. Será en calle La Estancia y calle de ingreso a Bemberg Estate Wines. Ubicación: https://maps.app.goo.gl/mg2YeZERUkAEmkgZ8
URL:https://prensa.mendoza.gob.ar/agenda/gobernacion-50/
END:VEVENT
BEGIN:VEVENT
DTSTART;TZID=America/Argentina/Mendoza:20260319T103000
DTEND;TZID=America/Argentina/Mendoza:20260319T110000
DTSTAMP:20260419T175252
CREATED:20260319T122016Z
LAST-MODIFIED:20260319T150651Z
UID:532676-1773916200-1773918000@prensa.mendoza.gob.ar
SUMMARY:GOBERNACIÓN
DESCRIPTION:El Gobernador Alfredo Cornejo; el ministro de Gobierno\, Infraestructura y Desarrollo Territorial\, Natalio Mema; la subsecretaria de Infraestructura y Desarrollo Territorial\, Marité Badui; y el administrador de la Dirección Provincial de Vialidad (DPV)\, Osvaldo Romagnoli\, encabezarán la inauguración y habilitación del nuevo ordenador vial del ingreso a la ciudad de Tunuyán. Será en Ruta Provincial 90 (Melchor Villanueva) y Ruta Nacional 40. Ubicación: https://maps.app.goo.gl/rPdQzCnwe7B5yYC76
URL:https://prensa.mendoza.gob.ar/agenda/gobernacion-49/
END:VEVENT
BEGIN:VEVENT
DTSTART;TZID=America/Argentina/Mendoza:20260318T123000
DTEND;TZID=America/Argentina/Mendoza:20260318T170000
DTSTAMP:20260419T175252
CREATED:20260318T115848Z
LAST-MODIFIED:20260318T115848Z
UID:532373-1773837000-1773853200@prensa.mendoza.gob.ar
SUMMARY:GOBERNACIÓN
DESCRIPTION:El Gobernador Alfredo Cornejo y la ministra de Seguridad y Justicia\, Mercedes Rus\, participarán de la inauguración del sistema tercerizado de gestión de secuestro viales del Gran Mendoza. El predio forma parte del plan integral impulsado por el Ministerio de Seguridad y Justicia para ordenar los vehículos retenidos en la provincia. Será en el Carril Rodríguez Peña 5.149\, Coquimbito\, Maipú.
URL:https://prensa.mendoza.gob.ar/agenda/gobernacion-48/
END:VEVENT
BEGIN:VEVENT
DTSTART;TZID=America/Argentina/Mendoza:20260318T100000
DTEND;TZID=America/Argentina/Mendoza:20260318T170000
DTSTAMP:20260419T175252
CREATED:20260318T115742Z
LAST-MODIFIED:20260318T115742Z
UID:532371-1773828000-1773853200@prensa.mendoza.gob.ar
SUMMARY:GOBERNACIÓN
DESCRIPTION:El Gobernador Alfredo Cornejo y la subsecretaria de Infraestructura y Desarrollo Territorial\, Marité Badui\, y el administrador del Departamento Provincial de Vialidad (DPV)\, Osvaldo Romagnoli\, encabezarán la apertura de sobres de la licitación del tercer tramo de la Doble Vía del Este. Será en el 4° piso de la Casa de Gobierno.
URL:https://prensa.mendoza.gob.ar/agenda/gobernacion-47/
END:VEVENT
BEGIN:VEVENT
DTSTART;TZID=America/Argentina/Mendoza:20260318T093000
DTEND;TZID=America/Argentina/Mendoza:20260318T093000
DTSTAMP:20260419T175252
CREATED:20260318T110021Z
LAST-MODIFIED:20260317T211855Z
UID:532321-1773826200-1773826200@prensa.mendoza.gob.ar
SUMMARY:MINISTERIO DE ENERGÍA Y AMBIENTE
DESCRIPTION:La ministra de Energía y Ambiente\, Jimena Latorre\, junto al intendente de Godoy Cruz\, Diego Costarelli\, participará del evento organizado por Cervecería y Maltería Quilmes en el marco del Día del Agua. Durante el encuentro\, Latorre firmará un convenio con la empresa para desarrollar un proyecto piloto de regeneración hidrológica en el Área Metropolitana.
URL:https://prensa.mendoza.gob.ar/agenda/ministerio-de-energia-y-ambiente-4/
END:VEVENT
BEGIN:VEVENT
DTSTART;TZID=America/Argentina/Mendoza:20260317T123000
DTEND;TZID=America/Argentina/Mendoza:20260317T170000
DTSTAMP:20260419T175252
CREATED:20260317T130012Z
LAST-MODIFIED:20260317T130045Z
UID:532117-1773750600-1773766800@prensa.mendoza.gob.ar
SUMMARY:GOBERNACIÓN
DESCRIPTION:Los gobernadores de Mendoza\, Alfredo Cornejo\, y de San Luis\, Claudio Poggi\, firmarán un convenio específico que permitirá avanzar en la creación de una Zona de Control Unificado (ZCU)\, en el límite entre ambas provincias. La actividad se realizará en Desaguadero. https://maps.app.goo.gl/c2mZ8UuXYpbQJfPg9?g_st=iw
URL:https://prensa.mendoza.gob.ar/agenda/gobernacion-46/
END:VEVENT
BEGIN:VEVENT
DTSTART;TZID=America/Argentina/Mendoza:20260316T120000
DTEND;TZID=America/Argentina/Mendoza:20260316T170000
DTSTAMP:20260419T175252
CREATED:20260316T131028Z
LAST-MODIFIED:20260316T131028Z
UID:531820-1773662400-1773680400@prensa.mendoza.gob.ar
SUMMARY:MINISTERIO DE GOBIERNO\, INFRAESTRUCTURA Y DESARROLLO TERRITORIAL
DESCRIPTION:El ministro Natalio Mema participará\, junto al intendente de la Ciudad de Mendoza\, Ulpiano Suarez; Ulises Stegmayer\, director de la División Productos Profesionales de L’Oréal Groupe Argentina y Silvia Uranga\, directora de Fundación Pescar\, de la firma de un convenio de colaboración para la formación de oficios.  Salón de Acuerdos\, 4º piso\, Casa de Gobierno
URL:https://prensa.mendoza.gob.ar/agenda/ministerio-de-gobierno-infraestructura-y-desarrollo-territorial-17/
END:VEVENT
BEGIN:VEVENT
DTSTART;TZID=America/Argentina/Mendoza:20260316T110000
DTEND;TZID=America/Argentina/Mendoza:20260316T170000
DTSTAMP:20260419T175252
CREATED:20260316T130713Z
LAST-MODIFIED:20260316T130713Z
UID:531817-1773658800-1773680400@prensa.mendoza.gob.ar
SUMMARY:MINISTERIO DE SALUD Y DEPORTES
DESCRIPTION:El ministro Rodolfo Montero junto a la vicegobernadora Hebe Casado asistirá al reconocimiento que se le hará a la provincia de Mendoza y al sistema sanitario por ser la primer Región Angels en el país. La cita será en la Legislatura provincial\, ubicada en Sarmiento y Patricias Mendocinas de Ciudad.
URL:https://prensa.mendoza.gob.ar/agenda/ministerio-de-salud-y-deportes-15/
END:VEVENT
BEGIN:VEVENT
DTSTART;TZID=America/Argentina/Mendoza:20260312T140000
DTEND;TZID=America/Argentina/Mendoza:20260312T170000
DTSTAMP:20260419T175252
CREATED:20260312T130955Z
LAST-MODIFIED:20260312T130955Z
UID:531092-1773324000-1773334800@prensa.mendoza.gob.ar
SUMMARY:GOBERNACIÓN - AGENDA EN ESTADOS UNIDOS 
DESCRIPTION:El Gobernador Alfredo Cornejo se reunirá con CEOS\, empresarios\, miembros de IDEA y otras autoridades. Será en The White Olive\, 39 West 55 street de Nueva York.
URL:https://prensa.mendoza.gob.ar/agenda/gobernacion-agenda-en-estados-unidos-5/
END:VEVENT
BEGIN:VEVENT
DTSTART;TZID=America/Argentina/Mendoza:20260312T114500
DTEND;TZID=America/Argentina/Mendoza:20260312T170000
DTSTAMP:20260419T175252
CREATED:20260312T130924Z
LAST-MODIFIED:20260312T130924Z
UID:531086-1773315900-1773334800@prensa.mendoza.gob.ar
SUMMARY:GOBERNACIÓN - AGENDA EN ESTADOS UNIDOS
DESCRIPTION:El Gobernador Alfredo Cornejo formará parte de las mesas redondas de inversión sectorial junto a otros gobernadores de Argentina. El mandatario provincial expondrá en el panel de Energía junto a sus pares de Neuquén\, Río Negro\, Corrientes y Chubut. Será en el Consulado Argentino en Nueva York\, 12 West 56th street. \n 
URL:https://prensa.mendoza.gob.ar/agenda/gobernacion-agenda-en-estados-unidos-4/
END:VEVENT
BEGIN:VEVENT
DTSTART;TZID=America/Argentina/Mendoza:20260312T101500
DTEND;TZID=America/Argentina/Mendoza:20260312T170000
DTSTAMP:20260419T175252
CREATED:20260312T130755Z
LAST-MODIFIED:20260312T130755Z
UID:531084-1773310500-1773334800@prensa.mendoza.gob.ar
SUMMARY:GOBERNACIÓN - AGENDA EN ESTADOS UNIDOS
DESCRIPTION:El Gobernador Alfredo Cornejo participará del evento de promoción de inversiones\, organizado por el Instituto para el Desarrollo Empresarial de la Argentina (IDEA) y la Cancillería Argentina. Será en el Consulado Argentino en Nueva York\, 12 West 56th street. \n  \n 
URL:https://prensa.mendoza.gob.ar/agenda/gobernacion-agenda-en-estados-unidos-3/
END:VEVENT
BEGIN:VEVENT
DTSTART;TZID=America/Argentina/Mendoza:20260312T083000
DTEND;TZID=America/Argentina/Mendoza:20260312T170000
DTSTAMP:20260419T175252
CREATED:20260311T134902Z
LAST-MODIFIED:20260311T135406Z
UID:530874-1773304200-1773334800@prensa.mendoza.gob.ar
SUMMARY:PRODUCCIÓN
DESCRIPTION:El ministro de Producción\, Rodolfo Vargas Arizu\, participará de la 3ª Jornada de Producción de Forraje Bajo Riego\, junto a los directores Francisco Ríos y Alfredo Draque. La actividad reunirá a productores y especialistas para abordar experiencias y prácticas vinculadas a la producción forrajera bajo sistemas de riego. Finca La Florida\, El Mirador\, Rivadavia. (QH6X+93).
URL:https://prensa.mendoza.gob.ar/agenda/produccion/
END:VEVENT
BEGIN:VEVENT
DTSTART;TZID=America/Argentina/Mendoza:20260311T190000
DTEND;TZID=America/Argentina/Mendoza:20260311T203000
DTSTAMP:20260419T175252
CREATED:20260311T151219Z
LAST-MODIFIED:20260311T151219Z
UID:530899-1773255600-1773261000@prensa.mendoza.gob.ar
SUMMARY:GOBIERNO / ESTADOS UNIDOS
DESCRIPTION:El Gobernador Alfredo Cornejo asistirá a la recepción de cierre y ceremonia de premios AmCham Argentina\, Cámara de Comercio de los Estados Unidos en Argentina. Será en Microsoft Times Square\, 640 8th Avenue\, Nueva York.
URL:https://prensa.mendoza.gob.ar/agenda/gobierno-estados-unidos-2/
END:VEVENT
BEGIN:VEVENT
DTSTART;TZID=America/Argentina/Mendoza:20260311T130000
DTEND;TZID=America/Argentina/Mendoza:20260311T170000
DTSTAMP:20260419T175252
CREATED:20260311T151019Z
LAST-MODIFIED:20260311T151125Z
UID:530896-1773234000-1773248400@prensa.mendoza.gob.ar
SUMMARY:GOBIERNO / ESTADOS UNIDOS
DESCRIPTION:El Gobernador Alfredo Cornejo participará de una reunión con autoridades de la Corporación Financiera para el Desarrollo Internacional de los Estados Unidos (DFC) para acercar proyectos del sector privado en pos de financiamiento. Será en el Consulado Argentino en Nueva York\, 12 West 56th street.
URL:https://prensa.mendoza.gob.ar/agenda/gobierno-estados-unidos/
END:VEVENT
BEGIN:VEVENT
DTSTART;TZID=America/Argentina/Mendoza:20260311T120000
DTEND;TZID=America/Argentina/Mendoza:20260311T170000
DTSTAMP:20260419T175252
CREATED:20260311T151319Z
LAST-MODIFIED:20260311T151319Z
UID:530901-1773230400-1773248400@prensa.mendoza.gob.ar
SUMMARY:GOBIERNO / ESTADOS UNIDOS
DESCRIPTION:El Gobernador Alfredo Cornejo participará de la sesión de alto nivel en una nueva jornada del Argentina Week 2026\, donde se abordará sesiones temáticas de oportunidades de inversión\, desregulación\, banca\, tecnología\, agroindustria\, energía\, entre otros temas. Expondrán el ministro de Economía de la Nación\, Luis Caputo y el ministro de Desregulación y Transformación del Estado\, Federico Sturzenegger. Será en Bank of America\, Two Bryant Park Pavilion 1114\, 6ª avenida New York.
URL:https://prensa.mendoza.gob.ar/agenda/gobierno-estados-unidos-3/
END:VEVENT
BEGIN:VEVENT
DTSTART;TZID=America/Argentina/Mendoza:20260310T190000
DTEND;TZID=America/Argentina/Mendoza:20260310T203000
DTSTAMP:20260419T175252
CREATED:20260310T171737Z
LAST-MODIFIED:20260310T171737Z
UID:530727-1773169200-1773174600@prensa.mendoza.gob.ar
SUMMARY:AGENDA EN ESTADOS UNIDOS – 10/03
DESCRIPTION:19 hs.\nEl Gobernador Alfredo Cornejo participará de la recepción ejecutiva de networking de Citibank\, en el marco de Argentina Week 2026. El encuentro contará con la presencia del ministro de Desregulación y Transformación del Estado de Argentina\, Federico Sturzenegger. \nSerá en la sede de Citi\, Greenwich street 380 de New York \n19.30 hs.\nEl Gobernador Alfredo Cornejo participará de un encuentro con autoridades de Continental Resources\, una de las principales empresas independientes estadounidenses de exploración y producción de petróleo y gas natural.
URL:https://prensa.mendoza.gob.ar/agenda/agenda-en-estados-unidos-10-03/
END:VEVENT
BEGIN:VEVENT
DTSTART;TZID=America/Argentina/Mendoza:20260310T100000
DTEND;TZID=America/Argentina/Mendoza:20260310T170000
DTSTAMP:20260419T175252
CREATED:20260310T124410Z
LAST-MODIFIED:20260310T124410Z
UID:530605-1773136800-1773162000@prensa.mendoza.gob.ar
SUMMARY:GOBIERNO
DESCRIPTION:El Gobernador Alfredo Cornejo participará\, junto al presidente Javier Milei y al resto de la comitiva de gobernadores y funcionarios nacionales de Argentina\, de la apertura de las sesiones de alto nivel de Argentina Week 2026\, evento político orientado a promover y multiplicar las inversiones directas en el país. Será en el JP Morgan Chase\, Park Aveneu 270\, New York.
URL:https://prensa.mendoza.gob.ar/agenda/gobierno/
END:VEVENT
BEGIN:VEVENT
DTSTART;TZID=America/Argentina/Mendoza:20260309T200000
DTEND;TZID=America/Argentina/Mendoza:20260309T210000
DTSTAMP:20260419T175252
CREATED:20260309T135320Z
LAST-MODIFIED:20260309T143714Z
UID:530522-1773086400-1773090000@prensa.mendoza.gob.ar
SUMMARY:GOBERNACIÓN / AGENDA EN ESTADOS UNIDOS
DESCRIPTION:El Gobernador Alfredo Cornejo participará de la bienvenida y del networking institucional con el jefe de Gabinete de Ministros de la Nación\, Manuel Adorni. Será en el Consulado Argentino en Nueva York.
URL:https://prensa.mendoza.gob.ar/agenda/gobernacion-agenda-en-estados-unidos-2/
END:VEVENT
BEGIN:VEVENT
DTSTART;TZID=America/Argentina/Mendoza:20260309T133000
DTEND;TZID=America/Argentina/Mendoza:20260309T170000
DTSTAMP:20260419T175252
CREATED:20260309T135226Z
LAST-MODIFIED:20260309T135226Z
UID:530520-1773063000-1773075600@prensa.mendoza.gob.ar
SUMMARY:GOBERNACIÓN / AGENDA EN ESTADOS UNIDOS
DESCRIPTION:El Gobernador Alfredo Cornejo\, participará junto a los gobernadores Raúl Jalil (Catamarca)\, Carlos Sadir (Jujuy)\, Gustavo Sáenz (Salta)\, Martín Llaryora (Córdoba)\, Rolando Figueroa (Neuquén)\, Alberto Weretilneck (Río Negro)\, Ignacio Torres (Chubut)\, Claudio Vidal (Santa Cruz) y Juan Pablo Valdes (Corrientes) de un almuerzo y conversatorio orientado a generar un intercambio directo sobre la nueva etapa de reformas estructurales de la Argentina. Este encuentro es organizado por Council of the Americas en el marco de Argentina Week 2026. Será en Council of the Americas\, Park Avenue 680\, New York\, Estados Unidos.
URL:https://prensa.mendoza.gob.ar/agenda/gobernacion-agenda-en-estados-unidos/
END:VEVENT
BEGIN:VEVENT
DTSTART;TZID=America/Argentina/Mendoza:20260306T123000
DTEND;TZID=America/Argentina/Mendoza:20260306T170000
DTSTAMP:20260419T175252
CREATED:20260306T132709Z
LAST-MODIFIED:20260306T132709Z
UID:529404-1772800200-1772816400@prensa.mendoza.gob.ar
SUMMARY:GOBERNACIÓN
DESCRIPTION:El Gobernador Alfredo Cornejo\, junto al Jefe de Gobierno de la Ciudad Autónoma de Buenos Aires\, Jorge Macri y autoridades del Emetur\, brindará detalles de la continuidad de la Guía Michelin\, en Mendoza y CABA. Será en el salón Patrias Mendocinas\, 4º piso de Casa de Gobierno.
URL:https://prensa.mendoza.gob.ar/agenda/gobernacion-44/
END:VEVENT
BEGIN:VEVENT
DTSTART;TZID=America/Argentina/Mendoza:20260305T120000
DTEND;TZID=America/Argentina/Mendoza:20260305T170000
DTSTAMP:20260419T175252
CREATED:20260305T125447Z
LAST-MODIFIED:20260305T132434Z
UID:529166-1772712000-1772730000@prensa.mendoza.gob.ar
SUMMARY:GOBERNACIÓN
DESCRIPTION:El Gobernador Alfredo Cornejo; el ministro de Economía de la Nación\, Luis Caputo y el presidente de CEM\, Martín Clément\, encabezarán la apertura del Foro de Inversiones y Negocios. Será en el Hotel Hilton.
URL:https://prensa.mendoza.gob.ar/agenda/gobernacion-43/
END:VEVENT
BEGIN:VEVENT
DTSTART;TZID=America/Argentina/Mendoza:20260302T100000
DTEND;TZID=America/Argentina/Mendoza:20260302T170000
DTSTAMP:20260419T175252
CREATED:20260302T110523Z
LAST-MODIFIED:20260302T110523Z
UID:528253-1772445600-1772470800@prensa.mendoza.gob.ar
SUMMARY:MINISTERIO DE SALUD Y DEPORTES
DESCRIPTION:La directora de Epidemiología\, Calidad y Control de Gestión\, Andrea Falaschi junto a la responsable de Inmunizaciones\, Iris Aguilar\, brindarán detalles de los alcances de la Campaña Antigripal 2026. Será en el Vacunatorio Central\, ubicado en Virgen del Carmen de Cuyo 59\, de Ciudad.
URL:https://prensa.mendoza.gob.ar/agenda/ministerio-de-salud-y-deportes-13/
END:VEVENT
BEGIN:VEVENT
DTSTART;TZID=America/Argentina/Mendoza:20260302T080000
DTEND;TZID=America/Argentina/Mendoza:20260302T170000
DTSTAMP:20260419T175252
CREATED:20260303T030145Z
LAST-MODIFIED:20260302T205513Z
UID:528433-1772438400-1772470800@prensa.mendoza.gob.ar
SUMMARY:MINISTERIO DE SALUD Y DEPORTES
DESCRIPTION:En el marco del Día Mundial de la Audición\, presentarán una campaña para prevenir la pérdida auditiva infantil evitable y garantizar la identificación temprana y el cuidado de los niños y niñas con problemas de oído o audición. Asistirán la directora de Maternidad e Infancias\, Natalia Courtis\, y su par de Atención a las Personas con Discapacidad\, Georgina Cicchitti\, entre otras autoridades. Será en el aula magna del Hospital Luis Lagomaggiore.
URL:https://prensa.mendoza.gob.ar/agenda/ministerio-de-salud-y-deportes-14/
END:VEVENT
END:VCALENDAR