BEGIN:VCALENDAR
VERSION:2.0
PRODID:-//PRENSA GOBIERNO DE MENDOZA - ECPv6.15.18//NONSGML v1.0//EN
CALSCALE:GREGORIAN
METHOD:PUBLISH
X-WR-CALNAME:PRENSA GOBIERNO DE MENDOZA
X-ORIGINAL-URL:https://prensa.mendoza.gob.ar
X-WR-CALDESC:Eventos para PRENSA GOBIERNO DE MENDOZA
REFRESH-INTERVAL;VALUE=DURATION:PT1H
X-Robots-Tag:noindex
X-PUBLISHED-TTL:PT1H
BEGIN:VTIMEZONE
TZID:America/Argentina/Mendoza
BEGIN:STANDARD
TZOFFSETFROM:-0300
TZOFFSETTO:-0300
TZNAME:-03
DTSTART:20250101T000000
END:STANDARD
END:VTIMEZONE
BEGIN:VEVENT
DTSTART;TZID=America/Argentina/Mendoza:20260205T103000
DTEND;TZID=America/Argentina/Mendoza:20260205T170000
DTSTAMP:20260420T013755
CREATED:20260204T140958Z
LAST-MODIFIED:20260204T140958Z
UID:523746-1770287400-1770310800@prensa.mendoza.gob.ar
SUMMARY:MINISTERIO DE SALUD Y DEPORTES
DESCRIPTION:La subsecretaria de Gestión de Salud\, Carina Copparoni junto al coordinador Área sanitaria Valle de Uco\, Paulo\nGonzález Trigo\, pondrán en funciones la nueva Base de mediana complejidad del SEC. Será en el Centro de Salud Nº 98\, Juan Delgado Dr. Mariano Moreno 131\, M5665 Vista Flores\, Tunuyán.
URL:https://prensa.mendoza.gob.ar/agenda/ministerio-de-salud-y-deportes-8/
END:VEVENT
BEGIN:VEVENT
DTSTART;TZID=America/Argentina/Mendoza:20260205T103000
DTEND;TZID=America/Argentina/Mendoza:20260205T103000
DTSTAMP:20260420T013755
CREATED:20260205T030105Z
LAST-MODIFIED:20260204T210046Z
UID:523854-1770287400-1770287400@prensa.mendoza.gob.ar
SUMMARY:MINISTERIO DE SALUD Y DEPORTES
DESCRIPTION:La subsecretaria de Gestión de Salud\, Carina Copparoni junto al director regional del Valle de Uco\, Paulo González Trigo\, pondrán en funciones la nueva base de mediana complejidad del SEC. Será en el Centro de Salud Nº 98\, Juan Delgado Dr. Mariano Moreno 131 (M5665) Vista Flores\, Tunuyán.
URL:https://prensa.mendoza.gob.ar/agenda/ministerio-de-salud-y-deportes-10/
END:VEVENT
BEGIN:VEVENT
DTSTART;TZID=America/Argentina/Mendoza:20260203T123000
DTEND;TZID=America/Argentina/Mendoza:20260203T123000
DTSTAMP:20260420T013755
CREATED:20260203T125112Z
LAST-MODIFIED:20260203T162413Z
UID:523534-1770121800-1770121800@prensa.mendoza.gob.ar
SUMMARY:GOBERNACIÓN
DESCRIPTION:El Gobernador Alfredo Cornejo\, acompañado por la ministra de Energía y Ambiente\, Jimena Latorre\, y el director de Biodiversidad y Ecoparque\, Ignacio Haudet\, presentarán la nueva imagen institucional del Parque General San Martín y plan de obras con articulación público-privada. Será en el Salón Patricias Mendocinas\, Casa de Gobierno.
URL:https://prensa.mendoza.gob.ar/agenda/gobernacion-energia-y-ambiente/
END:VEVENT
BEGIN:VEVENT
DTSTART;TZID=America/Argentina/Mendoza:20260203T104000
DTEND;TZID=America/Argentina/Mendoza:20260203T104000
DTSTAMP:20260420T013755
CREATED:20260203T114554Z
LAST-MODIFIED:20260203T162517Z
UID:523513-1770115200-1770115200@prensa.mendoza.gob.ar
SUMMARY:GOBERNACIÓN
DESCRIPTION:El Gobernador Alfredo Cornejo\, junto al intendente Esteban Allasino y al ministro de Educación\, Cultura y DGE\, Tadeo García Zalazar\, recorrerá la obra del Edificio de la Escuela Secundaria Técnica 4-000 de Ugarteche. Ubicación: https://maps.app.goo.gl/g7QqBTAf5zCZ7jPs6
URL:https://prensa.mendoza.gob.ar/agenda/gobernacion-33/
END:VEVENT
BEGIN:VEVENT
DTSTART;TZID=America/Argentina/Mendoza:20260203T102000
DTEND;TZID=America/Argentina/Mendoza:20260203T102000
DTSTAMP:20260420T013755
CREATED:20260203T123041Z
LAST-MODIFIED:20260203T162600Z
UID:523516-1770114000-1770114000@prensa.mendoza.gob.ar
SUMMARY:GOBERNACIÓN
DESCRIPTION:El Gobernador Alfredo Cornejo\, junto al intendente Esteban Allasino\, y al ministro de Educación\, Cultura y DGE\, Tadeo García Zalazar\, visitará el predio de la Escuela especial Nº 2-050 “Elvira Ferrari”\, la escuela Nº 2-725 sin nombre y el CCT Nº 6-305 Jacinto Moreira. Lugar: https://maps.app.goo.gl/mCWXVXDvwScMypGY9
URL:https://prensa.mendoza.gob.ar/agenda/gobernacion-34/
END:VEVENT
BEGIN:VEVENT
DTSTART;TZID=America/Argentina/Mendoza:20260203T100000
DTEND;TZID=America/Argentina/Mendoza:20260203T100000
DTSTAMP:20260420T013755
CREATED:20260203T114420Z
LAST-MODIFIED:20260203T162647Z
UID:523510-1770112800-1770112800@prensa.mendoza.gob.ar
SUMMARY:GOBERNACIÓN
DESCRIPTION:El Gobernador Alfredo Cornejo\, junto al intendente Esteban Allasino y al ministro de Educación\, Cultura y DGE\, Tadeo García Zalazar\, visitará la obra de construcción del Jardín de Infantes 0-065 Dr. Andres Perez Rubia de Ugarteche. Ubicación: https://maps.app.goo.gl/mCWXVXDvwScMypGY9
URL:https://prensa.mendoza.gob.ar/agenda/gobernacion-32/
END:VEVENT
BEGIN:VEVENT
DTSTART;TZID=America/Argentina/Mendoza:20260203T090000
DTEND;TZID=America/Argentina/Mendoza:20260203T090000
DTSTAMP:20260420T013755
CREATED:20260203T030131Z
LAST-MODIFIED:20260203T113915Z
UID:523470-1770109200-1770109200@prensa.mendoza.gob.ar
SUMMARY:SUBSECRETARÍA DE DEPORTES
DESCRIPTION:El subsecretario de Deportes\, Federico Chiapetta\, firmará junto a Jose «Pepé» Gonzalez\, capitán del equipo de Voley de Primera de San Rafael\, el convenio del programa Apoyo a Instituciones Deportivas. Estarán acompañados de los 20 jugadores de San Rafael Club\, quienes participarán de los partidos de la Liga Federal Argentina de Voley. Será en la subsecretaría de Deportes\, Estadio Malvinas Argentinas.
URL:https://prensa.mendoza.gob.ar/agenda/subsecretaria-de-deportes-6/
END:VEVENT
BEGIN:VEVENT
DTSTART;TZID=America/Argentina/Mendoza:20260202T123000
DTEND;TZID=America/Argentina/Mendoza:20260202T170000
DTSTAMP:20260420T013755
CREATED:20260202T132705Z
LAST-MODIFIED:20260202T132705Z
UID:523374-1770035400-1770051600@prensa.mendoza.gob.ar
SUMMARY:GOBERNACIÓN
DESCRIPTION:El Gobernador Alfredo Cornejo y la ministra de Seguridad y Justicia Mercedes Rus\, participarán de la inauguración del Laboratorio de Huellas Balísticas. Será en Virgen del Carmen de Cuyo y Belgrano de Ciudad.
URL:https://prensa.mendoza.gob.ar/agenda/gobernacion-31/
END:VEVENT
BEGIN:VEVENT
DTSTART;TZID=America/Argentina/Mendoza:20260202T103000
DTEND;TZID=America/Argentina/Mendoza:20260202T170000
DTSTAMP:20260420T013755
CREATED:20260202T115541Z
LAST-MODIFIED:20260202T115541Z
UID:523364-1770028200-1770051600@prensa.mendoza.gob.ar
SUMMARY:GOBERNACIÓN
DESCRIPTION:El Gobernador Alfredo Cornejo\, junto al intendente de Guaymallén\, Marcos Calvente\, recorrerá la obra integral San Francisco Del Monte. Ubicación https://maps.app.goo.gl/ChsV2TKbzo2ADyBt9?g_st=aw
URL:https://prensa.mendoza.gob.ar/agenda/gobernacion-30/
END:VEVENT
BEGIN:VEVENT
DTSTART;TZID=America/Argentina/Mendoza:20260130T120000
DTEND;TZID=America/Argentina/Mendoza:20260130T170000
DTSTAMP:20260420T013755
CREATED:20260130T124440Z
LAST-MODIFIED:20260130T124440Z
UID:523085-1769774400-1769792400@prensa.mendoza.gob.ar
SUMMARY:GOBERNACIÓN/ AGENDA TUPUNGATO
DESCRIPTION:El Gobernador Alfredo Cornejo y el intendente de Tupungato\, Gustavo Aguilera\, participarán de la apertura del acto de licitación de la ampliación del sistema de provisión y distribución de agua potable cuenca San José – Bastías\, Acueducto Oeste. Será en el Hotel Turismo Tupungato\, Avenida Belgrano 1060.
URL:https://prensa.mendoza.gob.ar/agenda/gobernacion-agenda-tupungato/
END:VEVENT
BEGIN:VEVENT
DTSTART;TZID=America/Argentina/Mendoza:20260129T110000
DTEND;TZID=America/Argentina/Mendoza:20260129T110000
DTSTAMP:20260420T013755
CREATED:20260129T114118Z
LAST-MODIFIED:20260129T210408Z
UID:522870-1769684400-1769684400@prensa.mendoza.gob.ar
SUMMARY:GOBERNACIÓN / AGENDA EN SANTA ROSA
DESCRIPTION:El Gobernador Alfredo Cornejo\, acompañado por la subsecretaria de Infraestructura\, Marité Badui\, presentarán la habilitación de la red de gas natural en la localidad 12 de octubre de Santa Rosa. Ubicación: https://maps.app.goo.gl/9tcQYceZRNfa8RVp8
URL:https://prensa.mendoza.gob.ar/agenda/gobernacion-agenda-en-santa-rosa/
END:VEVENT
BEGIN:VEVENT
DTSTART;TZID=America/Argentina/Mendoza:20260129T093000
DTEND;TZID=America/Argentina/Mendoza:20260129T093000
DTSTAMP:20260420T013755
CREATED:20260129T210626Z
LAST-MODIFIED:20260129T210626Z
UID:523032-1769679000-1769679000@prensa.mendoza.gob.ar
SUMMARY:GOBERNACIÓN / AGENDA EN RIVADAVIA
DESCRIPTION:El Gobernador Alfredo Cornejo\, junto al presidente del Instituto Provincial de la Vivienda\, Gustavo Cantero\, entregará 22 viviendas del barrio Bransen de Rivadavia. Ubicación: https://maps.app.goo.gl/MxzrNR2kBVmYxpBM9?g_st=aw
URL:https://prensa.mendoza.gob.ar/agenda/gobernacion-agenda-en-rivadavia/
END:VEVENT
BEGIN:VEVENT
DTSTART;TZID=America/Argentina/Mendoza:20260128T110000
DTEND;TZID=America/Argentina/Mendoza:20260128T110000
DTSTAMP:20260420T013755
CREATED:20260128T124858Z
LAST-MODIFIED:20260129T210440Z
UID:522786-1769598000-1769598000@prensa.mendoza.gob.ar
SUMMARY:GOBERNACIÓN
DESCRIPTION:El Gobernador Alfredo Cornejo; el ministro de Gobierno\, Infraestructura y Desarrollo Territorial\, Natalio Mema y el intendente de Luján de Cuyo\, Esteban Allasino; recorrerán la obra de cloacas del barrio Cuarto Perdriel de Costa Flores. En el lugar se firmarán un convenio para la realización del nuevo parque solar en el departamento. Ubicación: https://maps.app.goo.gl/3gjzuz3cKhF1a1ru7
URL:https://prensa.mendoza.gob.ar/agenda/gobernacion-29/
END:VEVENT
BEGIN:VEVENT
DTSTART;TZID=America/Argentina/Mendoza:20260128T093000
DTEND;TZID=America/Argentina/Mendoza:20260128T093000
DTSTAMP:20260420T013755
CREATED:20260128T030115Z
LAST-MODIFIED:20260127T223735Z
UID:522751-1769592600-1769592600@prensa.mendoza.gob.ar
SUMMARY:MINISTERIO DE GOBIERNO\, INFRAESTRUCTURA Y DESARROLLO TERRITORIAL / AGENDA EN SAN RAFAEL
DESCRIPTION:El jefe de Gabinete Santiago Suárez y el director de Asuntos Gubernamentales Francisco Mondotte encabezarán una actividad en la Escuela José Amoroso\, en el distrito Los Coroneles\, donde se informará sobre las tareas de asistencia y acompañamiento realizadas por la Provincia en el marco de las últimas tormentas\, y el trabajo articulado de las áreas de Hidráulica\, Vialidad y Desarrollo Comunitario. Ubicación: https://maps.app.goo.gl/7u98ZRFZF23tmMP57
URL:https://prensa.mendoza.gob.ar/agenda/ministerio-de-gobierno-infraestructura-y-desarrollo-territorial-agenda-en-san-rafael/
END:VEVENT
BEGIN:VEVENT
DTSTART;TZID=America/Argentina/Mendoza:20260127T091500
DTEND;TZID=America/Argentina/Mendoza:20260127T170000
DTSTAMP:20260420T013755
CREATED:20260127T112108Z
LAST-MODIFIED:20260127T114755Z
UID:522629-1769505300-1769533200@prensa.mendoza.gob.ar
SUMMARY:GOBERNACIÓN / AGENDA EN TUNUYÁN
DESCRIPTION:El Gobernador Alfredo Cornejo y el presidente del Instituto Provincial de la Vivienda\, Gustavo Cantero\, entregarán 142 propiedades del barrio Los Cerezos II. Será en Martín Güemes s/n\, Vista Flores\, Tunuyán. Ubicación: https://maps.app.goo.gl/b6dofpWdhVAFjpyF6
URL:https://prensa.mendoza.gob.ar/agenda/gobernacion-agenda-en-tunuyan/
END:VEVENT
BEGIN:VEVENT
DTSTART;TZID=America/Argentina/Mendoza:20260126T123000
DTEND;TZID=America/Argentina/Mendoza:20260126T123000
DTSTAMP:20260420T013755
CREATED:20260126T132032Z
LAST-MODIFIED:20260126T155529Z
UID:522482-1769430600-1769430600@prensa.mendoza.gob.ar
SUMMARY:GOBERNACIÓN
DESCRIPTION:El Gobernador Alfredo Cornejo\, acompañado por los ministros de Energía y Ambiente\, Jimena Latorre\, y de Gobierno\, Infraestructura y Desarrollo Territorial\, Natalio Mema\, presentará el nuevo sistema de venta de entradas para Áreas Naturales Protegidas\, y el nuevo Registro Provincial de Gases de Efecto Invernadero. Será en el Salón Patricias\, cuarto piso de Casa de Gobierno.
URL:https://prensa.mendoza.gob.ar/agenda/gobernacion-28/
END:VEVENT
BEGIN:VEVENT
DTSTART;TZID=America/Argentina/Mendoza:20260123T123000
DTEND;TZID=America/Argentina/Mendoza:20260123T123000
DTSTAMP:20260420T013755
CREATED:20260123T030158Z
LAST-MODIFIED:20260123T111358Z
UID:522054-1769171400-1769171400@prensa.mendoza.gob.ar
SUMMARY:SUBSECRETARIA DE CULTURA
DESCRIPTION:El subsecretario de Cultura Diego Gareca celebrará el Día del músico argentino homenajeando a músicos de diferentes ediciones de la Fiesta Nacional de la Vendimia. Será en el hall del Teatro Independencia\, en Chile y Espejo de Ciudad.
URL:https://prensa.mendoza.gob.ar/agenda/subsecretaria-de-cultura-2/
END:VEVENT
BEGIN:VEVENT
DTSTART;TZID=America/Argentina/Mendoza:20260123T100000
DTEND;TZID=America/Argentina/Mendoza:20260123T100000
DTSTAMP:20260420T013755
CREATED:20260123T030108Z
LAST-MODIFIED:20260123T015514Z
UID:522131-1769162400-1769162400@prensa.mendoza.gob.ar
SUMMARY:MINISTERIO DE SALUD Y DEPORTES / AGENDA EN LAVALLE
DESCRIPTION:La subsecretaria de Gestión de Salud\, Carina Copparoni\, entregará una de las ambulancias recientemente adquiridas con fondos del Reforsal. Recibirán la unidad Carina Lacroux Coordinadora de área salud Lavalle junto a Jesica Oros directora Hospital Sicoli y demás autoridades de salud de la región. Será en la sede del SEC Hospital Sicoli.
URL:https://prensa.mendoza.gob.ar/agenda/ministerio-de-salud-y-deportes-agenda-en-lavalle-2/
END:VEVENT
BEGIN:VEVENT
DTSTART;TZID=America/Argentina/Mendoza:20260121T110000
DTEND;TZID=America/Argentina/Mendoza:20260121T170000
DTSTAMP:20260420T013755
CREATED:20260121T111903Z
LAST-MODIFIED:20260121T111903Z
UID:521813-1768993200-1769014800@prensa.mendoza.gob.ar
SUMMARY:MINISTERIO DE SALUD Y DEPORTES/ AGENDA EN SAN RAFAEL
DESCRIPTION:La subsecretaria de Gestión de Salud\, Carina Copparoni\, entregará una nueva ambulancia al Servicio de Emergencias Coordinado de San Rafael. Se trata de una de las unidades adquiridas con fondos del Reforsal y equipadas especialmente para el traslado de personas con obesidad mórbida. En el acto la acompañarán la coordinadora Regional Sur\, Verónica Martínez\, y la directora del Hospital Schestakow\, Gabriela Funes. Será en la sede del Servicio de Emergencias Coordinado de San Rafael\, Juan Agustín Maza 890.
URL:https://prensa.mendoza.gob.ar/agenda/ministerio-de-salud-y-deportes-agenda-en-san-rafael/
END:VEVENT
BEGIN:VEVENT
DTSTART;TZID=America/Argentina/Mendoza:20260119T100000
DTEND;TZID=America/Argentina/Mendoza:20260119T170000
DTSTAMP:20260420T013755
CREATED:20260119T114536Z
LAST-MODIFIED:20260119T114705Z
UID:521518-1768816800-1768842000@prensa.mendoza.gob.ar
SUMMARY:MINISTERIO DE GOBIERNO\, INFRAESTRUCTURA Y DESARROLLO TERRITORIAL
DESCRIPTION:El ministro Natalio Mema\, la subsecretaria de Infraestructura Marité Badui y el intendente de Luján de Cuyo Esteban Allasino realizarán un recorrido por las obras en colectoras y vías alternativas al Acceso Sur\, destinadas a mejorar la circulación y la conectividad en la zona. Terrada y Ruta 60\, Luján de Cuyo.
URL:https://prensa.mendoza.gob.ar/agenda/ministerio-de-gobierno-infraestructura-y-desarrollo-territorial-14/
END:VEVENT
BEGIN:VEVENT
DTSTART;TZID=America/Argentina/Mendoza:20260116T123000
DTEND;TZID=America/Argentina/Mendoza:20260116T123000
DTSTAMP:20260420T013755
CREATED:20260116T134924Z
LAST-MODIFIED:20260116T134924Z
UID:521311-1768566600-1768566600@prensa.mendoza.gob.ar
SUMMARY:GOBERNACIÓN
DESCRIPTION:El Gobernador Alfredo Cornejo y el intendente Esteban Allasino\, acompañados por el ministro de Gobierno\, Infraestructura y Desarrollo Territorial\, Natalio Mema\, y la subsecretaria de Infraestructura\, Marité Badui\, anunciarán la refuncionalización del Acceso Sur\, tramo Paso – Variante de Palmira/Agrelo en Luján de Cuyo. Será en el Salón Patricias Mendocinas\, cuarto piso de Casa de Gobierno.
URL:https://prensa.mendoza.gob.ar/agenda/gobernacion-27/
END:VEVENT
BEGIN:VEVENT
DTSTART;TZID=America/Argentina/Mendoza:20260116T120000
DTEND;TZID=America/Argentina/Mendoza:20260116T120000
DTSTAMP:20260420T013755
CREATED:20260116T052343Z
LAST-MODIFIED:20260116T052343Z
UID:521301-1768564800-1768564800@prensa.mendoza.gob.ar
SUMMARY:EMETUR
DESCRIPTION:La presidenta del Ente Mendoza Turismo\, Gabriela Testa\, junto a los organizadores del evento\, presentará la 4ª edición del festival ¡Del tomate!\, que se realizará del 5 al 8 de febrero\, en nuestra provincia. Será en La Enoteca\, Peltier 611\, de Ciudad
URL:https://prensa.mendoza.gob.ar/agenda/emetur-5/
END:VEVENT
BEGIN:VEVENT
DTSTART;TZID=America/Argentina/Mendoza:20260115T123000
DTEND;TZID=America/Argentina/Mendoza:20260115T123000
DTSTAMP:20260420T013755
CREATED:20260115T131045Z
LAST-MODIFIED:20260115T145900Z
UID:521143-1768480200-1768480200@prensa.mendoza.gob.ar
SUMMARY:GOBERNACIÓN
DESCRIPTION:El Gobernador Alfredo Cornejo y el ministro del Interior de la Nación\, Diego Santilli\, participarán de la firma del acuerdo de inicio de obra del Hospital de Luján de Cuyo\, con un modelo que combina financiamiento estatal y administración privada. Ubicación: https://maps.app.goo.gl/Sm425xZhPRnaXd4k9
URL:https://prensa.mendoza.gob.ar/agenda/gobernacion-26/
END:VEVENT
BEGIN:VEVENT
DTSTART;TZID=America/Argentina/Mendoza:20260115T094500
DTEND;TZID=America/Argentina/Mendoza:20260115T094500
DTSTAMP:20260420T013755
CREATED:20260115T100056Z
LAST-MODIFIED:20260115T003716Z
UID:521112-1768470300-1768470300@prensa.mendoza.gob.ar
SUMMARY:GOBERNACIÓN
DESCRIPTION:El Gobernador Alfredo Cornejo y el ministro del Interior de la Nación\, Diego Santilli\, acompañados por el ministro de Gobierno\, Infraestructura y Desarrollo Territorial\, Natalio Mema\, recorrerán las obras de ampliación del Metrotranvía de Mendoza y su conexión con el Aeropuerto El Plumerillo. Será en el sector Norte del ingreso al Aeropuerto Internacional El Plumerillo.
URL:https://prensa.mendoza.gob.ar/agenda/gobernacion-25/
END:VEVENT
BEGIN:VEVENT
DTSTART;TZID=America/Argentina/Mendoza:20260114T123000
DTEND;TZID=America/Argentina/Mendoza:20260114T123000
DTSTAMP:20260420T013755
CREATED:20260114T103020Z
LAST-MODIFIED:20260114T034636Z
UID:520945-1768393800-1768393800@prensa.mendoza.gob.ar
SUMMARY:GOBERNACIÓN
DESCRIPTION:El Gobernador Alfredo Cornejo\, y el ministro de Salud y Deportes\, Rodolfo Montero\, presentarán 8 ambulancias adquiridas con fondos del Reforsal. Será en Base Cóndor.
URL:https://prensa.mendoza.gob.ar/agenda/gobernacion-24/
END:VEVENT
BEGIN:VEVENT
DTSTART;TZID=America/Argentina/Mendoza:20260114T100000
DTEND;TZID=America/Argentina/Mendoza:20260114T100000
DTSTAMP:20260420T013755
CREATED:20260114T103014Z
LAST-MODIFIED:20260114T034446Z
UID:520943-1768384800-1768384800@prensa.mendoza.gob.ar
SUMMARY:GOBERNACIÓN
DESCRIPTION:El Gobernador Alfredo Cornejo y el intendente Marcos Calvente\, acompañados por el ministro de Gobierno\, Infraestructura y Desarrollo Territorial\, Natalio Mema\, y la subsecretaria de Infraestructura\, Marité Badui\, realizarán la apertura de sobres de la licitación para la refuncionalización del Acceso Este tramo Nudo Vial – Arturo González en Guaymallén. Será en el salón Patricias Mendocinas\, cuarto piso de Casa de Gobierno.
URL:https://prensa.mendoza.gob.ar/agenda/gobernacion-23/
END:VEVENT
BEGIN:VEVENT
DTSTART;TZID=America/Argentina/Mendoza:20260113T130000
DTEND;TZID=America/Argentina/Mendoza:20260113T130000
DTSTAMP:20260420T013755
CREATED:20260113T135223Z
LAST-MODIFIED:20260113T135223Z
UID:520811-1768309200-1768309200@prensa.mendoza.gob.ar
SUMMARY:MINISTERIO DE GOBIERNO\, INFRAESTRUCTURA Y DESARROLLO TERRITORIAL
DESCRIPTION:El ministro Natalio Mema y el intendente de Guaymallén Marcos Calvente firmarán un convenio de colaboración para el mantenimiento y la operación de la red de semáforos provinciales en el departamento\, con el objetivo de mejorar la seguridad vial y la gestión del tránsito. Será en el Salón de Acuerdos\, tercer piso de Casa de Gobierno.
URL:https://prensa.mendoza.gob.ar/agenda/ministerio-de-gobierno-infraestructura-y-desarrollo-territorial-13/
END:VEVENT
BEGIN:VEVENT
DTSTART;TZID=America/Argentina/Mendoza:20260113T090000
DTEND;TZID=America/Argentina/Mendoza:20260113T090000
DTSTAMP:20260420T013755
CREATED:20260113T031518Z
LAST-MODIFIED:20260113T031518Z
UID:520783-1768294800-1768294800@prensa.mendoza.gob.ar
SUMMARY:GOBERNACIÓN / AGENDA EN CHILE
DESCRIPTION:El Gobernador Alfredo Cornejo\, junto a la vicegobernadora\, Hebe Casado\, asistirá a la inauguración del Congreso del Futuro Región Valparaíso. Será en el Salón de Honor del Congreso Nacional de Valparaíso\, av. Pedro Montt s/n\, Valparaíso\, Chile.
URL:https://prensa.mendoza.gob.ar/agenda/gobernacion-agenda-en-chile/
END:VEVENT
BEGIN:VEVENT
DTSTART;TZID=America/Argentina/Mendoza:20260112T093000
DTEND;TZID=America/Argentina/Mendoza:20260112T093000
DTSTAMP:20260420T013755
CREATED:20260112T030100Z
LAST-MODIFIED:20260112T111143Z
UID:520667-1768210200-1768210200@prensa.mendoza.gob.ar
SUMMARY:MINISTERIO DE SALUD Y DEPORTES
DESCRIPTION:La jefa de Inmunizaciones\, Iris Aguilar\, encabezará el lanzamiento de la campaña de vacunación a embarazadas contra el Virus Sincicial Respiratorio. Será en el Vacunatorio Central\, Virgen del Carmen de Cuyo 59\, Ciudad.
URL:https://prensa.mendoza.gob.ar/agenda/ministerio-de-salud-y-deportes-7/
END:VEVENT
BEGIN:VEVENT
DTSTART;TZID=America/Argentina/Mendoza:20260109T120000
DTEND;TZID=America/Argentina/Mendoza:20260109T120000
DTSTAMP:20260420T013755
CREATED:20260109T051307Z
LAST-MODIFIED:20260109T151115Z
UID:520266-1767960000-1767960000@prensa.mendoza.gob.ar
SUMMARY:EMETUR
DESCRIPTION:La presidenta del Ente Mendoza Turismo\, Gabriela Testa\, junto a funcionarios de la cartera y referentes del sector\, presentará Mendoza VanLIfe\, un programa integral pionero en el país orientado al desarrollo del turismo en motorhomes\, campers y vehículos recreativos. Será en La Enoteca\, Peltier 611\, Ciudad de Mendoza.
URL:https://prensa.mendoza.gob.ar/agenda/emetur-4/
END:VEVENT
END:VCALENDAR